BEGIN:VCALENDAR
VERSION:2.0
PRODID:-//Carobahn - ECPv6.15.20//NONSGML v1.0//EN
CALSCALE:GREGORIAN
METHOD:PUBLISH
X-WR-CALNAME:Carobahn
X-ORIGINAL-URL:https://carobahn.de
X-WR-CALDESC:Veranstaltungen für Carobahn
REFRESH-INTERVAL;VALUE=DURATION:PT1H
X-Robots-Tag:noindex
X-PUBLISHED-TTL:PT1H
BEGIN:VTIMEZONE
TZID:Europe/Berlin
BEGIN:DAYLIGHT
TZOFFSETFROM:+0100
TZOFFSETTO:+0200
TZNAME:CEST
DTSTART:20250330T010000
END:DAYLIGHT
BEGIN:STANDARD
TZOFFSETFROM:+0200
TZOFFSETTO:+0100
TZNAME:CET
DTSTART:20251026T010000
END:STANDARD
BEGIN:DAYLIGHT
TZOFFSETFROM:+0100
TZOFFSETTO:+0200
TZNAME:CEST
DTSTART:20260329T010000
END:DAYLIGHT
BEGIN:STANDARD
TZOFFSETFROM:+0200
TZOFFSETTO:+0100
TZNAME:CET
DTSTART:20261025T010000
END:STANDARD
BEGIN:DAYLIGHT
TZOFFSETFROM:+0100
TZOFFSETTO:+0200
TZNAME:CEST
DTSTART:20270328T010000
END:DAYLIGHT
BEGIN:STANDARD
TZOFFSETFROM:+0200
TZOFFSETTO:+0100
TZNAME:CET
DTSTART:20271031T010000
END:STANDARD
END:VTIMEZONE
BEGIN:VEVENT
DTSTART;TZID=Europe/Berlin:20260720T110000
DTEND;TZID=Europe/Berlin:20260720T171500
DTSTAMP:20260422T135458
CREATED:20260208T201629Z
LAST-MODIFIED:20260208T201629Z
UID:9947-1784545200-1784567700@carobahn.de
SUMMARY:Linienfahrt 20. Juli 2026
DESCRIPTION:Wir bringen Sie bequem zu den Sehenswürdigkeiten und zum Strand! Tageskarten sind nicht übertragbare Karten
URL:https://carobahn.de/event/linienfahrt-20-juli-2026/
CATEGORIES:Linienfahrt
ATTACH;FMTTYPE=image/jpeg:https://carobahn.de/wp-content/uploads/2025/02/Carobahn-13.4.22-22-scaled-m2mqOE.tmp_.jpg
END:VEVENT
BEGIN:VEVENT
DTSTART;TZID=Europe/Berlin:20260720T173000
DTEND;TZID=Europe/Berlin:20260720T184500
DTSTAMP:20260422T135458
CREATED:20260208T205900Z
LAST-MODIFIED:20260208T205900Z
UID:10220-1784568600-1784573100@carobahn.de
SUMMARY:Öffentliche Rundfahrt 20. Juli 2026
DESCRIPTION:
URL:https://carobahn.de/event/oeffentliche-rundfahrt-20-juli-2026/
LOCATION:Haltestelle Feuerwehr\, Neue Str. 4\, Wittmund\, 26409
CATEGORIES:Öffentliche Rundfahrt
END:VEVENT
BEGIN:VEVENT
DTSTART;TZID=Europe/Berlin:20260721T110000
DTEND;TZID=Europe/Berlin:20260721T171500
DTSTAMP:20260422T135458
CREATED:20260208T201630Z
LAST-MODIFIED:20260208T201630Z
UID:9948-1784631600-1784654100@carobahn.de
SUMMARY:Linienfahrt 21. Juli 2026
DESCRIPTION:Wir bringen Sie bequem zu den Sehenswürdigkeiten und zum Strand! Tageskarten sind nicht übertragbare Karten
URL:https://carobahn.de/event/linienfahrt-21-juli-2026/
CATEGORIES:Linienfahrt
ATTACH;FMTTYPE=image/jpeg:https://carobahn.de/wp-content/uploads/2025/02/Carobahn-13.4.22-22-scaled-m2mqOE.tmp_.jpg
END:VEVENT
BEGIN:VEVENT
DTSTART;TZID=Europe/Berlin:20260722T110000
DTEND;TZID=Europe/Berlin:20260722T171500
DTSTAMP:20260422T135458
CREATED:20260208T201632Z
LAST-MODIFIED:20260208T201632Z
UID:9949-1784718000-1784740500@carobahn.de
SUMMARY:Linienfahrt 22. Juli 2026
DESCRIPTION:Wir bringen Sie bequem zu den Sehenswürdigkeiten und zum Strand! Tageskarten sind nicht übertragbare Karten
URL:https://carobahn.de/event/linienfahrt-22-juli-2026/
CATEGORIES:Linienfahrt
ATTACH;FMTTYPE=image/jpeg:https://carobahn.de/wp-content/uploads/2025/02/Carobahn-13.4.22-22-scaled-m2mqOE.tmp_.jpg
END:VEVENT
BEGIN:VEVENT
DTSTART;TZID=Europe/Berlin:20260723T110000
DTEND;TZID=Europe/Berlin:20260723T171500
DTSTAMP:20260422T135458
CREATED:20260208T201633Z
LAST-MODIFIED:20260208T201633Z
UID:9950-1784804400-1784826900@carobahn.de
SUMMARY:Linienfahrt 23. Juli 2026
DESCRIPTION:Wir bringen Sie bequem zu den Sehenswürdigkeiten und zum Strand! Tageskarten sind nicht übertragbare Karten
URL:https://carobahn.de/event/linienfahrt-23-juli-2026/
CATEGORIES:Linienfahrt
ATTACH;FMTTYPE=image/jpeg:https://carobahn.de/wp-content/uploads/2025/02/Carobahn-13.4.22-22-scaled-m2mqOE.tmp_.jpg
END:VEVENT
BEGIN:VEVENT
DTSTART;TZID=Europe/Berlin:20260724T110000
DTEND;TZID=Europe/Berlin:20260724T171500
DTSTAMP:20260422T135458
CREATED:20260208T201635Z
LAST-MODIFIED:20260208T201635Z
UID:9951-1784890800-1784913300@carobahn.de
SUMMARY:Linienfahrt 24. Juli 2026
DESCRIPTION:Wir bringen Sie bequem zu den Sehenswürdigkeiten und zum Strand! Tageskarten sind nicht übertragbare Karten
URL:https://carobahn.de/event/linienfahrt-24-juli-2026/
CATEGORIES:Linienfahrt
ATTACH;FMTTYPE=image/jpeg:https://carobahn.de/wp-content/uploads/2025/02/Carobahn-13.4.22-22-scaled-m2mqOE.tmp_.jpg
END:VEVENT
BEGIN:VEVENT
DTSTART;TZID=Europe/Berlin:20260724T173000
DTEND;TZID=Europe/Berlin:20260724T184500
DTSTAMP:20260422T135458
CREATED:20260208T205656Z
LAST-MODIFIED:20260208T205656Z
UID:10203-1784914200-1784918700@carobahn.de
SUMMARY:Öffentliche Rundfahrt 24. Juli 2026
DESCRIPTION:Gästeführer Carsten fährt mit Ihnen durch Carolinensiel und erzählt die Geschichte des Sielortes.
URL:https://carobahn.de/event/oeffentliche-rundfahrt-24-juli-2026/
LOCATION:Haltestelle Feuerwehr\, Neue Str. 4\, Wittmund\, 26409
CATEGORIES:Öffentliche Rundfahrt
ATTACH;FMTTYPE=image/jpeg:https://carobahn.de/wp-content/uploads/2025/02/Carobahn-13.4.22-4-scaled-xV9waX.tmp_.jpg
END:VEVENT
BEGIN:VEVENT
DTSTART;TZID=Europe/Berlin:20260725T110000
DTEND;TZID=Europe/Berlin:20260725T171500
DTSTAMP:20260422T135458
CREATED:20260208T201653Z
LAST-MODIFIED:20260208T201653Z
UID:9952-1784977200-1784999700@carobahn.de
SUMMARY:Linienfahrt 25. Juli 2026
DESCRIPTION:Wir bringen Sie bequem zu den Sehenswürdigkeiten und zum Strand! Tageskarten sind nicht übertragbare Karten
URL:https://carobahn.de/event/linienfahrt-25-juli-2026/
CATEGORIES:Linienfahrt
ATTACH;FMTTYPE=image/jpeg:https://carobahn.de/wp-content/uploads/2025/02/Carobahn-13.4.22-22-scaled-m2mqOE.tmp_.jpg
END:VEVENT
BEGIN:VEVENT
DTSTART;TZID=Europe/Berlin:20260726T110000
DTEND;TZID=Europe/Berlin:20260726T171500
DTSTAMP:20260422T135458
CREATED:20260208T201654Z
LAST-MODIFIED:20260208T201654Z
UID:9953-1785063600-1785086100@carobahn.de
SUMMARY:Linienfahrt 26. Juli 2026
DESCRIPTION:Wir bringen Sie bequem zu den Sehenswürdigkeiten und zum Strand! Tageskarten sind nicht übertragbare Karten
URL:https://carobahn.de/event/linienfahrt-26-juli-2026/
CATEGORIES:Linienfahrt
ATTACH;FMTTYPE=image/jpeg:https://carobahn.de/wp-content/uploads/2025/02/Carobahn-13.4.22-22-scaled-m2mqOE.tmp_.jpg
END:VEVENT
BEGIN:VEVENT
DTSTART;TZID=Europe/Berlin:20260727T110000
DTEND;TZID=Europe/Berlin:20260727T171500
DTSTAMP:20260422T135458
CREATED:20260208T201656Z
LAST-MODIFIED:20260208T201656Z
UID:9954-1785150000-1785172500@carobahn.de
SUMMARY:Linienfahrt 27. Juli 2026
DESCRIPTION:Wir bringen Sie bequem zu den Sehenswürdigkeiten und zum Strand! Tageskarten sind nicht übertragbare Karten
URL:https://carobahn.de/event/linienfahrt-27-juli-2026/
CATEGORIES:Linienfahrt
ATTACH;FMTTYPE=image/jpeg:https://carobahn.de/wp-content/uploads/2025/02/Carobahn-13.4.22-22-scaled-m2mqOE.tmp_.jpg
END:VEVENT
BEGIN:VEVENT
DTSTART;TZID=Europe/Berlin:20260727T173000
DTEND;TZID=Europe/Berlin:20260727T184500
DTSTAMP:20260422T135458
CREATED:20260208T205909Z
LAST-MODIFIED:20260208T205909Z
UID:10221-1785173400-1785177900@carobahn.de
SUMMARY:Öffentliche Rundfahrt 27. Juli 2026
DESCRIPTION:
URL:https://carobahn.de/event/oeffentliche-rundfahrt-27-juli-2026/
LOCATION:Haltestelle Feuerwehr\, Neue Str. 4\, Wittmund\, 26409
CATEGORIES:Öffentliche Rundfahrt
END:VEVENT
BEGIN:VEVENT
DTSTART;TZID=Europe/Berlin:20260728T110000
DTEND;TZID=Europe/Berlin:20260728T171500
DTSTAMP:20260422T135458
CREATED:20260208T201657Z
LAST-MODIFIED:20260208T201657Z
UID:9955-1785236400-1785258900@carobahn.de
SUMMARY:Linienfahrt 28. Juli 2026
DESCRIPTION:Wir bringen Sie bequem zu den Sehenswürdigkeiten und zum Strand! Tageskarten sind nicht übertragbare Karten
URL:https://carobahn.de/event/linienfahrt-28-juli-2026/
CATEGORIES:Linienfahrt
ATTACH;FMTTYPE=image/jpeg:https://carobahn.de/wp-content/uploads/2025/02/Carobahn-13.4.22-22-scaled-m2mqOE.tmp_.jpg
END:VEVENT
BEGIN:VEVENT
DTSTART;TZID=Europe/Berlin:20260729T110000
DTEND;TZID=Europe/Berlin:20260729T171500
DTSTAMP:20260422T135458
CREATED:20260208T201659Z
LAST-MODIFIED:20260208T201659Z
UID:9956-1785322800-1785345300@carobahn.de
SUMMARY:Linienfahrt 29. Juli 2026
DESCRIPTION:Wir bringen Sie bequem zu den Sehenswürdigkeiten und zum Strand! Tageskarten sind nicht übertragbare Karten
URL:https://carobahn.de/event/linienfahrt-29-juli-2026/
CATEGORIES:Linienfahrt
ATTACH;FMTTYPE=image/jpeg:https://carobahn.de/wp-content/uploads/2025/02/Carobahn-13.4.22-22-scaled-m2mqOE.tmp_.jpg
END:VEVENT
BEGIN:VEVENT
DTSTART;TZID=Europe/Berlin:20260730T110000
DTEND;TZID=Europe/Berlin:20260730T171500
DTSTAMP:20260422T135458
CREATED:20260208T201718Z
LAST-MODIFIED:20260208T201718Z
UID:9957-1785409200-1785431700@carobahn.de
SUMMARY:Linienfahrt 30. Juli 2026
DESCRIPTION:Wir bringen Sie bequem zu den Sehenswürdigkeiten und zum Strand! Tageskarten sind nicht übertragbare Karten
URL:https://carobahn.de/event/linienfahrt-30-juli-2026/
CATEGORIES:Linienfahrt
ATTACH;FMTTYPE=image/jpeg:https://carobahn.de/wp-content/uploads/2025/02/Carobahn-13.4.22-22-scaled-m2mqOE.tmp_.jpg
END:VEVENT
BEGIN:VEVENT
DTSTART;TZID=Europe/Berlin:20260731T110000
DTEND;TZID=Europe/Berlin:20260731T171500
DTSTAMP:20260422T135458
CREATED:20260208T201720Z
LAST-MODIFIED:20260208T201720Z
UID:9958-1785495600-1785518100@carobahn.de
SUMMARY:Linienfahrt 31. Juli 2026
DESCRIPTION:Wir bringen Sie bequem zu den Sehenswürdigkeiten und zum Strand! Tageskarten sind nicht übertragbare Karten
URL:https://carobahn.de/event/linienfahrt-31-juli-2026/
CATEGORIES:Linienfahrt
ATTACH;FMTTYPE=image/jpeg:https://carobahn.de/wp-content/uploads/2025/02/Carobahn-13.4.22-22-scaled-m2mqOE.tmp_.jpg
END:VEVENT
BEGIN:VEVENT
DTSTART;TZID=Europe/Berlin:20260731T173000
DTEND;TZID=Europe/Berlin:20260731T184500
DTSTAMP:20260422T135458
CREATED:20260208T205657Z
LAST-MODIFIED:20260208T205657Z
UID:10204-1785519000-1785523500@carobahn.de
SUMMARY:Öffentliche Rundfahrt 31. Juli 2026
DESCRIPTION:Gästeführer Carsten fährt mit Ihnen durch Carolinensiel und erzählt die Geschichte des Sielortes.
URL:https://carobahn.de/event/oeffentliche-rundfahrt-31-juli-2026/
LOCATION:Haltestelle Feuerwehr\, Neue Str. 4\, Wittmund\, 26409
CATEGORIES:Öffentliche Rundfahrt
ATTACH;FMTTYPE=image/jpeg:https://carobahn.de/wp-content/uploads/2025/02/Carobahn-13.4.22-4-scaled-xV9waX.tmp_.jpg
END:VEVENT
BEGIN:VEVENT
DTSTART;TZID=Europe/Berlin:20260801T110000
DTEND;TZID=Europe/Berlin:20260801T171500
DTSTAMP:20260422T135458
CREATED:20260208T201721Z
LAST-MODIFIED:20260208T201721Z
UID:9959-1785582000-1785604500@carobahn.de
SUMMARY:Linienfahrt 01. August 2026
DESCRIPTION:Wir bringen Sie bequem zu den Sehenswürdigkeiten und zum Strand! Tageskarten sind nicht übertragbare Karten
URL:https://carobahn.de/event/linienfahrt-01-august-2026/
CATEGORIES:Linienfahrt
ATTACH;FMTTYPE=image/jpeg:https://carobahn.de/wp-content/uploads/2025/02/Carobahn-13.4.22-22-scaled-m2mqOE.tmp_.jpg
END:VEVENT
BEGIN:VEVENT
DTSTART;TZID=Europe/Berlin:20260802T110000
DTEND;TZID=Europe/Berlin:20260802T171500
DTSTAMP:20260422T135458
CREATED:20260208T201723Z
LAST-MODIFIED:20260208T201723Z
UID:9960-1785668400-1785690900@carobahn.de
SUMMARY:Linienfahrt 02. August 2026
DESCRIPTION:Wir bringen Sie bequem zu den Sehenswürdigkeiten und zum Strand! Tageskarten sind nicht übertragbare Karten
URL:https://carobahn.de/event/linienfahrt-02-august-2026/
CATEGORIES:Linienfahrt
ATTACH;FMTTYPE=image/jpeg:https://carobahn.de/wp-content/uploads/2025/02/Carobahn-13.4.22-22-scaled-m2mqOE.tmp_.jpg
END:VEVENT
BEGIN:VEVENT
DTSTART;TZID=Europe/Berlin:20260803T110000
DTEND;TZID=Europe/Berlin:20260803T171500
DTSTAMP:20260422T135458
CREATED:20260208T201724Z
LAST-MODIFIED:20260208T201724Z
UID:9961-1785754800-1785777300@carobahn.de
SUMMARY:Linienfahrt 03. August 2026
DESCRIPTION:Wir bringen Sie bequem zu den Sehenswürdigkeiten und zum Strand! Tageskarten sind nicht übertragbare Karten
URL:https://carobahn.de/event/linienfahrt-03-august-2026/
CATEGORIES:Linienfahrt
ATTACH;FMTTYPE=image/jpeg:https://carobahn.de/wp-content/uploads/2025/02/Carobahn-13.4.22-22-scaled-m2mqOE.tmp_.jpg
END:VEVENT
BEGIN:VEVENT
DTSTART;TZID=Europe/Berlin:20260803T173000
DTEND;TZID=Europe/Berlin:20260803T184500
DTSTAMP:20260422T135458
CREATED:20260208T205909Z
LAST-MODIFIED:20260208T205909Z
UID:10222-1785778200-1785782700@carobahn.de
SUMMARY:Öffentliche Rundfahrt 03. August 2026
DESCRIPTION:
URL:https://carobahn.de/event/oeffentliche-rundfahrt-03-august-2026/
LOCATION:Haltestelle Feuerwehr\, Neue Str. 4\, Wittmund\, 26409
CATEGORIES:Öffentliche Rundfahrt
END:VEVENT
BEGIN:VEVENT
DTSTART;TZID=Europe/Berlin:20260804T110000
DTEND;TZID=Europe/Berlin:20260804T171500
DTSTAMP:20260422T135458
CREATED:20260208T201743Z
LAST-MODIFIED:20260208T201743Z
UID:9962-1785841200-1785863700@carobahn.de
SUMMARY:Linienfahrt 04. August 2026
DESCRIPTION:Wir bringen Sie bequem zu den Sehenswürdigkeiten und zum Strand! Tageskarten sind nicht übertragbare Karten
URL:https://carobahn.de/event/linienfahrt-04-august-2026/
CATEGORIES:Linienfahrt
ATTACH;FMTTYPE=image/jpeg:https://carobahn.de/wp-content/uploads/2025/02/Carobahn-13.4.22-22-scaled-m2mqOE.tmp_.jpg
END:VEVENT
BEGIN:VEVENT
DTSTART;TZID=Europe/Berlin:20260805T110000
DTEND;TZID=Europe/Berlin:20260805T171500
DTSTAMP:20260422T135458
CREATED:20260208T201744Z
LAST-MODIFIED:20260208T201744Z
UID:9963-1785927600-1785950100@carobahn.de
SUMMARY:Linienfahrt 05. August 2026
DESCRIPTION:Wir bringen Sie bequem zu den Sehenswürdigkeiten und zum Strand! Tageskarten sind nicht übertragbare Karten
URL:https://carobahn.de/event/linienfahrt-05-august-2026/
CATEGORIES:Linienfahrt
ATTACH;FMTTYPE=image/jpeg:https://carobahn.de/wp-content/uploads/2025/02/Carobahn-13.4.22-22-scaled-m2mqOE.tmp_.jpg
END:VEVENT
BEGIN:VEVENT
DTSTART;TZID=Europe/Berlin:20260806T110000
DTEND;TZID=Europe/Berlin:20260806T171500
DTSTAMP:20260422T135458
CREATED:20260208T201746Z
LAST-MODIFIED:20260208T201746Z
UID:9964-1786014000-1786036500@carobahn.de
SUMMARY:Linienfahrt 06. August 2026
DESCRIPTION:Wir bringen Sie bequem zu den Sehenswürdigkeiten und zum Strand! Tageskarten sind nicht übertragbare Karten
URL:https://carobahn.de/event/linienfahrt-06-august-2026/
CATEGORIES:Linienfahrt
ATTACH;FMTTYPE=image/jpeg:https://carobahn.de/wp-content/uploads/2025/02/Carobahn-13.4.22-22-scaled-m2mqOE.tmp_.jpg
END:VEVENT
BEGIN:VEVENT
DTSTART;TZID=Europe/Berlin:20260807T110000
DTEND;TZID=Europe/Berlin:20260807T171500
DTSTAMP:20260422T135458
CREATED:20260208T201747Z
LAST-MODIFIED:20260208T201747Z
UID:9965-1786100400-1786122900@carobahn.de
SUMMARY:Linienfahrt 07. August 2026
DESCRIPTION:Wir bringen Sie bequem zu den Sehenswürdigkeiten und zum Strand! Tageskarten sind nicht übertragbare Karten
URL:https://carobahn.de/event/linienfahrt-07-august-2026/
CATEGORIES:Linienfahrt
ATTACH;FMTTYPE=image/jpeg:https://carobahn.de/wp-content/uploads/2025/02/Carobahn-13.4.22-22-scaled-m2mqOE.tmp_.jpg
END:VEVENT
BEGIN:VEVENT
DTSTART;TZID=Europe/Berlin:20260807T173000
DTEND;TZID=Europe/Berlin:20260807T184500
DTSTAMP:20260422T135458
CREATED:20260208T205659Z
LAST-MODIFIED:20260208T205659Z
UID:10205-1786123800-1786128300@carobahn.de
SUMMARY:Öffentliche Rundfahrt 07. August 2026
DESCRIPTION:Gästeführer Carsten fährt mit Ihnen durch Carolinensiel und erzählt die Geschichte des Sielortes.
URL:https://carobahn.de/event/oeffentliche-rundfahrt-07-august-2026/
LOCATION:Haltestelle Feuerwehr\, Neue Str. 4\, Wittmund\, 26409
CATEGORIES:Öffentliche Rundfahrt
ATTACH;FMTTYPE=image/jpeg:https://carobahn.de/wp-content/uploads/2025/02/Carobahn-13.4.22-4-scaled-xV9waX.tmp_.jpg
END:VEVENT
BEGIN:VEVENT
DTSTART;TZID=Europe/Berlin:20260808T110000
DTEND;TZID=Europe/Berlin:20260808T171500
DTSTAMP:20260422T135458
CREATED:20260208T201749Z
LAST-MODIFIED:20260208T201749Z
UID:9966-1786186800-1786209300@carobahn.de
SUMMARY:Linienfahrt 08. August 2026
DESCRIPTION:Wir bringen Sie bequem zu den Sehenswürdigkeiten und zum Strand! Tageskarten sind nicht übertragbare Karten
URL:https://carobahn.de/event/linienfahrt-08-august-2026/
CATEGORIES:Linienfahrt
ATTACH;FMTTYPE=image/jpeg:https://carobahn.de/wp-content/uploads/2025/02/Carobahn-13.4.22-22-scaled-m2mqOE.tmp_.jpg
END:VEVENT
BEGIN:VEVENT
DTSTART;TZID=Europe/Berlin:20260809T110000
DTEND;TZID=Europe/Berlin:20260809T171500
DTSTAMP:20260422T135458
CREATED:20260208T201807Z
LAST-MODIFIED:20260208T201807Z
UID:9967-1786273200-1786295700@carobahn.de
SUMMARY:Linienfahrt 09. August 2026
DESCRIPTION:Wir bringen Sie bequem zu den Sehenswürdigkeiten und zum Strand! Tageskarten sind nicht übertragbare Karten
URL:https://carobahn.de/event/linienfahrt-09-august-2026/
CATEGORIES:Linienfahrt
ATTACH;FMTTYPE=image/jpeg:https://carobahn.de/wp-content/uploads/2025/02/Carobahn-13.4.22-22-scaled-m2mqOE.tmp_.jpg
END:VEVENT
BEGIN:VEVENT
DTSTART;TZID=Europe/Berlin:20260810T110000
DTEND;TZID=Europe/Berlin:20260810T171500
DTSTAMP:20260422T135458
CREATED:20260208T201808Z
LAST-MODIFIED:20260208T201808Z
UID:9968-1786359600-1786382100@carobahn.de
SUMMARY:Linienfahrt 10. August 2026
DESCRIPTION:Wir bringen Sie bequem zu den Sehenswürdigkeiten und zum Strand! Tageskarten sind nicht übertragbare Karten
URL:https://carobahn.de/event/linienfahrt-10-august-2026/
CATEGORIES:Linienfahrt
ATTACH;FMTTYPE=image/jpeg:https://carobahn.de/wp-content/uploads/2025/02/Carobahn-13.4.22-22-scaled-m2mqOE.tmp_.jpg
END:VEVENT
BEGIN:VEVENT
DTSTART;TZID=Europe/Berlin:20260810T173000
DTEND;TZID=Europe/Berlin:20260810T184500
DTSTAMP:20260422T135458
CREATED:20260208T205909Z
LAST-MODIFIED:20260208T205909Z
UID:10223-1786383000-1786387500@carobahn.de
SUMMARY:Öffentliche Rundfahrt 10. August 2026
DESCRIPTION:
URL:https://carobahn.de/event/oeffentliche-rundfahrt-10-august-2026/
LOCATION:Haltestelle Feuerwehr\, Neue Str. 4\, Wittmund\, 26409
CATEGORIES:Öffentliche Rundfahrt
END:VEVENT
BEGIN:VEVENT
DTSTART;TZID=Europe/Berlin:20260811T110000
DTEND;TZID=Europe/Berlin:20260811T171500
DTSTAMP:20260422T135458
CREATED:20260208T201810Z
LAST-MODIFIED:20260208T201810Z
UID:9969-1786446000-1786468500@carobahn.de
SUMMARY:Linienfahrt 11. August 2026
DESCRIPTION:Wir bringen Sie bequem zu den Sehenswürdigkeiten und zum Strand! Tageskarten sind nicht übertragbare Karten
URL:https://carobahn.de/event/linienfahrt-11-august-2026/
CATEGORIES:Linienfahrt
ATTACH;FMTTYPE=image/jpeg:https://carobahn.de/wp-content/uploads/2025/02/Carobahn-13.4.22-22-scaled-m2mqOE.tmp_.jpg
END:VEVENT
END:VCALENDAR