BEGIN:VCALENDAR
VERSION:2.0
PRODID:-//Carobahn - ECPv6.15.20//NONSGML v1.0//EN
CALSCALE:GREGORIAN
METHOD:PUBLISH
X-ORIGINAL-URL:https://carobahn.de
X-WR-CALDESC:Veranstaltungen für Carobahn
REFRESH-INTERVAL;VALUE=DURATION:PT1H
X-Robots-Tag:noindex
X-PUBLISHED-TTL:PT1H
BEGIN:VTIMEZONE
TZID:Europe/Berlin
BEGIN:DAYLIGHT
TZOFFSETFROM:+0100
TZOFFSETTO:+0200
TZNAME:CEST
DTSTART:20250330T010000
END:DAYLIGHT
BEGIN:STANDARD
TZOFFSETFROM:+0200
TZOFFSETTO:+0100
TZNAME:CET
DTSTART:20251026T010000
END:STANDARD
BEGIN:DAYLIGHT
TZOFFSETFROM:+0100
TZOFFSETTO:+0200
TZNAME:CEST
DTSTART:20260329T010000
END:DAYLIGHT
BEGIN:STANDARD
TZOFFSETFROM:+0200
TZOFFSETTO:+0100
TZNAME:CET
DTSTART:20261025T010000
END:STANDARD
BEGIN:DAYLIGHT
TZOFFSETFROM:+0100
TZOFFSETTO:+0200
TZNAME:CEST
DTSTART:20270328T010000
END:DAYLIGHT
BEGIN:STANDARD
TZOFFSETFROM:+0200
TZOFFSETTO:+0100
TZNAME:CET
DTSTART:20271031T010000
END:STANDARD
END:VTIMEZONE
BEGIN:VEVENT
DTSTART;TZID=Europe/Berlin:20260809T110000
DTEND;TZID=Europe/Berlin:20260809T171500
DTSTAMP:20260424T135344
CREATED:20260208T201807Z
LAST-MODIFIED:20260208T201807Z
UID:9967-1786273200-1786295700@carobahn.de
SUMMARY:Linienfahrt 09. August 2026
DESCRIPTION:Wir bringen Sie bequem zu den Sehenswürdigkeiten und zum Strand! Tageskarten sind nicht übertragbare Karten
URL:https://carobahn.de/event/linienfahrt-09-august-2026/
CATEGORIES:Linienfahrt
ATTACH;FMTTYPE=image/jpeg:https://carobahn.de/wp-content/uploads/2025/02/Carobahn-13.4.22-22-scaled-m2mqOE.tmp_.jpg
END:VEVENT
BEGIN:VEVENT
DTSTART;TZID=Europe/Berlin:20260810T110000
DTEND;TZID=Europe/Berlin:20260810T171500
DTSTAMP:20260424T135344
CREATED:20260208T201808Z
LAST-MODIFIED:20260208T201808Z
UID:9968-1786359600-1786382100@carobahn.de
SUMMARY:Linienfahrt 10. August 2026
DESCRIPTION:Wir bringen Sie bequem zu den Sehenswürdigkeiten und zum Strand! Tageskarten sind nicht übertragbare Karten
URL:https://carobahn.de/event/linienfahrt-10-august-2026/
CATEGORIES:Linienfahrt
ATTACH;FMTTYPE=image/jpeg:https://carobahn.de/wp-content/uploads/2025/02/Carobahn-13.4.22-22-scaled-m2mqOE.tmp_.jpg
END:VEVENT
BEGIN:VEVENT
DTSTART;TZID=Europe/Berlin:20260810T173000
DTEND;TZID=Europe/Berlin:20260810T184500
DTSTAMP:20260424T135344
CREATED:20260208T205909Z
LAST-MODIFIED:20260208T205909Z
UID:10223-1786383000-1786387500@carobahn.de
SUMMARY:Öffentliche Rundfahrt 10. August 2026
DESCRIPTION:
URL:https://carobahn.de/event/oeffentliche-rundfahrt-10-august-2026/
LOCATION:Haltestelle Feuerwehr\, Neue Str. 4\, Wittmund\, 26409
CATEGORIES:Öffentliche Rundfahrt
END:VEVENT
BEGIN:VEVENT
DTSTART;TZID=Europe/Berlin:20260811T110000
DTEND;TZID=Europe/Berlin:20260811T171500
DTSTAMP:20260424T135344
CREATED:20260208T201810Z
LAST-MODIFIED:20260208T201810Z
UID:9969-1786446000-1786468500@carobahn.de
SUMMARY:Linienfahrt 11. August 2026
DESCRIPTION:Wir bringen Sie bequem zu den Sehenswürdigkeiten und zum Strand! Tageskarten sind nicht übertragbare Karten
URL:https://carobahn.de/event/linienfahrt-11-august-2026/
CATEGORIES:Linienfahrt
ATTACH;FMTTYPE=image/jpeg:https://carobahn.de/wp-content/uploads/2025/02/Carobahn-13.4.22-22-scaled-m2mqOE.tmp_.jpg
END:VEVENT
BEGIN:VEVENT
DTSTART;TZID=Europe/Berlin:20260812T110000
DTEND;TZID=Europe/Berlin:20260812T171500
DTSTAMP:20260424T135344
CREATED:20260208T201811Z
LAST-MODIFIED:20260208T201811Z
UID:9970-1786532400-1786554900@carobahn.de
SUMMARY:Linienfahrt 12. August 2026
DESCRIPTION:Wir bringen Sie bequem zu den Sehenswürdigkeiten und zum Strand! Tageskarten sind nicht übertragbare Karten
URL:https://carobahn.de/event/linienfahrt-12-august-2026/
CATEGORIES:Linienfahrt
ATTACH;FMTTYPE=image/jpeg:https://carobahn.de/wp-content/uploads/2025/02/Carobahn-13.4.22-22-scaled-m2mqOE.tmp_.jpg
END:VEVENT
BEGIN:VEVENT
DTSTART;TZID=Europe/Berlin:20260813T110000
DTEND;TZID=Europe/Berlin:20260813T171500
DTSTAMP:20260424T135344
CREATED:20260208T201813Z
LAST-MODIFIED:20260208T201813Z
UID:9971-1786618800-1786641300@carobahn.de
SUMMARY:Linienfahrt 13. August 2026
DESCRIPTION:Wir bringen Sie bequem zu den Sehenswürdigkeiten und zum Strand! Tageskarten sind nicht übertragbare Karten
URL:https://carobahn.de/event/linienfahrt-13-august-2026/
CATEGORIES:Linienfahrt
ATTACH;FMTTYPE=image/jpeg:https://carobahn.de/wp-content/uploads/2025/02/Carobahn-13.4.22-22-scaled-m2mqOE.tmp_.jpg
END:VEVENT
BEGIN:VEVENT
DTSTART;TZID=Europe/Berlin:20260814T110000
DTEND;TZID=Europe/Berlin:20260814T171500
DTSTAMP:20260424T135344
CREATED:20260208T201831Z
LAST-MODIFIED:20260208T201831Z
UID:9972-1786705200-1786727700@carobahn.de
SUMMARY:Linienfahrt 14. August 2026
DESCRIPTION:Wir bringen Sie bequem zu den Sehenswürdigkeiten und zum Strand! Tageskarten sind nicht übertragbare Karten
URL:https://carobahn.de/event/linienfahrt-14-august-2026/
CATEGORIES:Linienfahrt
ATTACH;FMTTYPE=image/jpeg:https://carobahn.de/wp-content/uploads/2025/02/Carobahn-13.4.22-22-scaled-m2mqOE.tmp_.jpg
END:VEVENT
BEGIN:VEVENT
DTSTART;TZID=Europe/Berlin:20260814T173000
DTEND;TZID=Europe/Berlin:20260814T184500
DTSTAMP:20260424T135344
CREATED:20260208T205708Z
LAST-MODIFIED:20260208T205708Z
UID:10206-1786728600-1786733100@carobahn.de
SUMMARY:Öffentliche Rundfahrt 14. August 2026
DESCRIPTION:Gästeführer Carsten fährt mit Ihnen durch Carolinensiel und erzählt die Geschichte des Sielortes.
URL:https://carobahn.de/event/oeffentliche-rundfahrt-14-august-2026/
LOCATION:Haltestelle Feuerwehr\, Neue Str. 4\, Wittmund\, 26409
CATEGORIES:Öffentliche Rundfahrt
ATTACH;FMTTYPE=image/jpeg:https://carobahn.de/wp-content/uploads/2025/02/Carobahn-13.4.22-4-scaled-xV9waX.tmp_.jpg
END:VEVENT
BEGIN:VEVENT
DTSTART;TZID=Europe/Berlin:20260815T110000
DTEND;TZID=Europe/Berlin:20260815T171500
DTSTAMP:20260424T135344
CREATED:20260208T201832Z
LAST-MODIFIED:20260208T201832Z
UID:9973-1786791600-1786814100@carobahn.de
SUMMARY:Linienfahrt 15. August 2026
DESCRIPTION:Wir bringen Sie bequem zu den Sehenswürdigkeiten und zum Strand! Tageskarten sind nicht übertragbare Karten
URL:https://carobahn.de/event/linienfahrt-15-august-2026/
CATEGORIES:Linienfahrt
ATTACH;FMTTYPE=image/jpeg:https://carobahn.de/wp-content/uploads/2025/02/Carobahn-13.4.22-22-scaled-m2mqOE.tmp_.jpg
END:VEVENT
BEGIN:VEVENT
DTSTART;TZID=Europe/Berlin:20260816T110000
DTEND;TZID=Europe/Berlin:20260816T171500
DTSTAMP:20260424T135344
CREATED:20260208T201834Z
LAST-MODIFIED:20260208T201834Z
UID:9974-1786878000-1786900500@carobahn.de
SUMMARY:Linienfahrt 16. August 2026
DESCRIPTION:Wir bringen Sie bequem zu den Sehenswürdigkeiten und zum Strand! Tageskarten sind nicht übertragbare Karten
URL:https://carobahn.de/event/linienfahrt-16-august-2026/
CATEGORIES:Linienfahrt
ATTACH;FMTTYPE=image/jpeg:https://carobahn.de/wp-content/uploads/2025/02/Carobahn-13.4.22-22-scaled-m2mqOE.tmp_.jpg
END:VEVENT
BEGIN:VEVENT
DTSTART;TZID=Europe/Berlin:20260817T110000
DTEND;TZID=Europe/Berlin:20260817T171500
DTSTAMP:20260424T135344
CREATED:20260208T201835Z
LAST-MODIFIED:20260208T201835Z
UID:9975-1786964400-1786986900@carobahn.de
SUMMARY:Linienfahrt 17. August 2026
DESCRIPTION:Wir bringen Sie bequem zu den Sehenswürdigkeiten und zum Strand! Tageskarten sind nicht übertragbare Karten
URL:https://carobahn.de/event/linienfahrt-17-august-2026/
CATEGORIES:Linienfahrt
ATTACH;FMTTYPE=image/jpeg:https://carobahn.de/wp-content/uploads/2025/02/Carobahn-13.4.22-22-scaled-m2mqOE.tmp_.jpg
END:VEVENT
BEGIN:VEVENT
DTSTART;TZID=Europe/Berlin:20260817T173000
DTEND;TZID=Europe/Berlin:20260817T184500
DTSTAMP:20260424T135344
CREATED:20260208T205910Z
LAST-MODIFIED:20260208T205910Z
UID:10224-1786987800-1786992300@carobahn.de
SUMMARY:Öffentliche Rundfahrt 17. August 2026
DESCRIPTION:
URL:https://carobahn.de/event/oeffentliche-rundfahrt-17-august-2026/
LOCATION:Haltestelle Feuerwehr\, Neue Str. 4\, Wittmund\, 26409
CATEGORIES:Öffentliche Rundfahrt
END:VEVENT
BEGIN:VEVENT
DTSTART;TZID=Europe/Berlin:20260818T110000
DTEND;TZID=Europe/Berlin:20260818T171500
DTSTAMP:20260424T135344
CREATED:20260208T201837Z
LAST-MODIFIED:20260208T201837Z
UID:9976-1787050800-1787073300@carobahn.de
SUMMARY:Linienfahrt 18. August 2026
DESCRIPTION:Wir bringen Sie bequem zu den Sehenswürdigkeiten und zum Strand! Tageskarten sind nicht übertragbare Karten
URL:https://carobahn.de/event/linienfahrt-18-august-2026/
CATEGORIES:Linienfahrt
ATTACH;FMTTYPE=image/jpeg:https://carobahn.de/wp-content/uploads/2025/02/Carobahn-13.4.22-22-scaled-m2mqOE.tmp_.jpg
END:VEVENT
BEGIN:VEVENT
DTSTART;TZID=Europe/Berlin:20260819T110000
DTEND;TZID=Europe/Berlin:20260819T171500
DTSTAMP:20260424T135344
CREATED:20260208T201855Z
LAST-MODIFIED:20260208T201855Z
UID:9977-1787137200-1787159700@carobahn.de
SUMMARY:Linienfahrt 19. August 2026
DESCRIPTION:Wir bringen Sie bequem zu den Sehenswürdigkeiten und zum Strand! Tageskarten sind nicht übertragbare Karten
URL:https://carobahn.de/event/linienfahrt-19-august-2026/
CATEGORIES:Linienfahrt
ATTACH;FMTTYPE=image/jpeg:https://carobahn.de/wp-content/uploads/2025/02/Carobahn-13.4.22-22-scaled-m2mqOE.tmp_.jpg
END:VEVENT
BEGIN:VEVENT
DTSTART;TZID=Europe/Berlin:20260820T110000
DTEND;TZID=Europe/Berlin:20260820T171500
DTSTAMP:20260424T135344
CREATED:20260208T201856Z
LAST-MODIFIED:20260208T201856Z
UID:9978-1787223600-1787246100@carobahn.de
SUMMARY:Linienfahrt 20. August 2026
DESCRIPTION:Wir bringen Sie bequem zu den Sehenswürdigkeiten und zum Strand! Tageskarten sind nicht übertragbare Karten
URL:https://carobahn.de/event/linienfahrt-20-august-2026/
CATEGORIES:Linienfahrt
ATTACH;FMTTYPE=image/jpeg:https://carobahn.de/wp-content/uploads/2025/02/Carobahn-13.4.22-22-scaled-m2mqOE.tmp_.jpg
END:VEVENT
BEGIN:VEVENT
DTSTART;TZID=Europe/Berlin:20260821T110000
DTEND;TZID=Europe/Berlin:20260821T171500
DTSTAMP:20260424T135344
CREATED:20260208T201858Z
LAST-MODIFIED:20260208T201858Z
UID:9979-1787310000-1787332500@carobahn.de
SUMMARY:Linienfahrt 21. August 2026
DESCRIPTION:Wir bringen Sie bequem zu den Sehenswürdigkeiten und zum Strand! Tageskarten sind nicht übertragbare Karten
URL:https://carobahn.de/event/linienfahrt-21-august-2026/
CATEGORIES:Linienfahrt
ATTACH;FMTTYPE=image/jpeg:https://carobahn.de/wp-content/uploads/2025/02/Carobahn-13.4.22-22-scaled-m2mqOE.tmp_.jpg
END:VEVENT
BEGIN:VEVENT
DTSTART;TZID=Europe/Berlin:20260821T173000
DTEND;TZID=Europe/Berlin:20260821T184500
DTSTAMP:20260424T135344
CREATED:20260208T205710Z
LAST-MODIFIED:20260208T205710Z
UID:10207-1787333400-1787337900@carobahn.de
SUMMARY:Öffentliche Rundfahrt 21. August 2026
DESCRIPTION:Gästeführer Carsten fährt mit Ihnen durch Carolinensiel und erzählt die Geschichte des Sielortes.
URL:https://carobahn.de/event/oeffentliche-rundfahrt-21-august-2026/
LOCATION:Haltestelle Feuerwehr\, Neue Str. 4\, Wittmund\, 26409
CATEGORIES:Öffentliche Rundfahrt
ATTACH;FMTTYPE=image/jpeg:https://carobahn.de/wp-content/uploads/2025/02/Carobahn-13.4.22-4-scaled-xV9waX.tmp_.jpg
END:VEVENT
BEGIN:VEVENT
DTSTART;TZID=Europe/Berlin:20260822T110000
DTEND;TZID=Europe/Berlin:20260822T171500
DTSTAMP:20260424T135344
CREATED:20260208T201859Z
LAST-MODIFIED:20260208T201859Z
UID:9980-1787396400-1787418900@carobahn.de
SUMMARY:Linienfahrt 22. August 2026
DESCRIPTION:Wir bringen Sie bequem zu den Sehenswürdigkeiten und zum Strand! Tageskarten sind nicht übertragbare Karten
URL:https://carobahn.de/event/linienfahrt-22-august-2026/
CATEGORIES:Linienfahrt
ATTACH;FMTTYPE=image/jpeg:https://carobahn.de/wp-content/uploads/2025/02/Carobahn-13.4.22-22-scaled-m2mqOE.tmp_.jpg
END:VEVENT
BEGIN:VEVENT
DTSTART;TZID=Europe/Berlin:20260823T110000
DTEND;TZID=Europe/Berlin:20260823T171500
DTSTAMP:20260424T135344
CREATED:20260208T201901Z
LAST-MODIFIED:20260208T201901Z
UID:9981-1787482800-1787505300@carobahn.de
SUMMARY:Linienfahrt 23. August 2026
DESCRIPTION:Wir bringen Sie bequem zu den Sehenswürdigkeiten und zum Strand! Tageskarten sind nicht übertragbare Karten
URL:https://carobahn.de/event/linienfahrt-23-august-2026/
CATEGORIES:Linienfahrt
ATTACH;FMTTYPE=image/jpeg:https://carobahn.de/wp-content/uploads/2025/02/Carobahn-13.4.22-22-scaled-m2mqOE.tmp_.jpg
END:VEVENT
BEGIN:VEVENT
DTSTART;TZID=Europe/Berlin:20260824T110000
DTEND;TZID=Europe/Berlin:20260824T171500
DTSTAMP:20260424T135344
CREATED:20260208T201921Z
LAST-MODIFIED:20260208T201921Z
UID:9982-1787569200-1787591700@carobahn.de
SUMMARY:Linienfahrt 24. August 2026
DESCRIPTION:Wir bringen Sie bequem zu den Sehenswürdigkeiten und zum Strand! Tageskarten sind nicht übertragbare Karten
URL:https://carobahn.de/event/linienfahrt-24-august-2026/
CATEGORIES:Linienfahrt
ATTACH;FMTTYPE=image/jpeg:https://carobahn.de/wp-content/uploads/2025/02/Carobahn-13.4.22-22-scaled-m2mqOE.tmp_.jpg
END:VEVENT
BEGIN:VEVENT
DTSTART;TZID=Europe/Berlin:20260824T173000
DTEND;TZID=Europe/Berlin:20260824T184500
DTSTAMP:20260424T135344
CREATED:20260208T205910Z
LAST-MODIFIED:20260208T205910Z
UID:10225-1787592600-1787597100@carobahn.de
SUMMARY:Öffentliche Rundfahrt 24. August 2026
DESCRIPTION:
URL:https://carobahn.de/event/oeffentliche-rundfahrt-24-august-2026/
LOCATION:Haltestelle Feuerwehr\, Neue Str. 4\, Wittmund\, 26409
CATEGORIES:Öffentliche Rundfahrt
END:VEVENT
BEGIN:VEVENT
DTSTART;TZID=Europe/Berlin:20260825T110000
DTEND;TZID=Europe/Berlin:20260825T171500
DTSTAMP:20260424T135344
CREATED:20260208T201923Z
LAST-MODIFIED:20260208T201923Z
UID:9983-1787655600-1787678100@carobahn.de
SUMMARY:Linienfahrt 25. August 2026
DESCRIPTION:Wir bringen Sie bequem zu den Sehenswürdigkeiten und zum Strand! Tageskarten sind nicht übertragbare Karten
URL:https://carobahn.de/event/linienfahrt-25-august-2026/
CATEGORIES:Linienfahrt
ATTACH;FMTTYPE=image/jpeg:https://carobahn.de/wp-content/uploads/2025/02/Carobahn-13.4.22-22-scaled-m2mqOE.tmp_.jpg
END:VEVENT
BEGIN:VEVENT
DTSTART;TZID=Europe/Berlin:20260826T110000
DTEND;TZID=Europe/Berlin:20260826T171500
DTSTAMP:20260424T135344
CREATED:20260208T201924Z
LAST-MODIFIED:20260208T201924Z
UID:9984-1787742000-1787764500@carobahn.de
SUMMARY:Linienfahrt 26. August 2026
DESCRIPTION:Wir bringen Sie bequem zu den Sehenswürdigkeiten und zum Strand! Tageskarten sind nicht übertragbare Karten
URL:https://carobahn.de/event/linienfahrt-26-august-2026/
CATEGORIES:Linienfahrt
ATTACH;FMTTYPE=image/jpeg:https://carobahn.de/wp-content/uploads/2025/02/Carobahn-13.4.22-22-scaled-m2mqOE.tmp_.jpg
END:VEVENT
BEGIN:VEVENT
DTSTART;TZID=Europe/Berlin:20260827T110000
DTEND;TZID=Europe/Berlin:20260827T171500
DTSTAMP:20260424T135344
CREATED:20260208T201926Z
LAST-MODIFIED:20260208T201926Z
UID:9985-1787828400-1787850900@carobahn.de
SUMMARY:Linienfahrt 27. August 2026
DESCRIPTION:Wir bringen Sie bequem zu den Sehenswürdigkeiten und zum Strand! Tageskarten sind nicht übertragbare Karten
URL:https://carobahn.de/event/linienfahrt-27-august-2026/
CATEGORIES:Linienfahrt
ATTACH;FMTTYPE=image/jpeg:https://carobahn.de/wp-content/uploads/2025/02/Carobahn-13.4.22-22-scaled-m2mqOE.tmp_.jpg
END:VEVENT
BEGIN:VEVENT
DTSTART;TZID=Europe/Berlin:20260828T110000
DTEND;TZID=Europe/Berlin:20260828T171500
DTSTAMP:20260424T135344
CREATED:20260208T201927Z
LAST-MODIFIED:20260208T201927Z
UID:9986-1787914800-1787937300@carobahn.de
SUMMARY:Linienfahrt 28. August 2026
DESCRIPTION:Wir bringen Sie bequem zu den Sehenswürdigkeiten und zum Strand! Tageskarten sind nicht übertragbare Karten
URL:https://carobahn.de/event/linienfahrt-28-august-2026/
CATEGORIES:Linienfahrt
ATTACH;FMTTYPE=image/jpeg:https://carobahn.de/wp-content/uploads/2025/02/Carobahn-13.4.22-22-scaled-m2mqOE.tmp_.jpg
END:VEVENT
BEGIN:VEVENT
DTSTART;TZID=Europe/Berlin:20260828T173000
DTEND;TZID=Europe/Berlin:20260828T184500
DTSTAMP:20260424T135344
CREATED:20260208T205711Z
LAST-MODIFIED:20260208T205711Z
UID:10208-1787938200-1787942700@carobahn.de
SUMMARY:Öffentliche Rundfahrt 28. August 2026
DESCRIPTION:Gästeführer Carsten fährt mit Ihnen durch Carolinensiel und erzählt die Geschichte des Sielortes.
URL:https://carobahn.de/event/oeffentliche-rundfahrt-28-august-2026/
LOCATION:Haltestelle Feuerwehr\, Neue Str. 4\, Wittmund\, 26409
CATEGORIES:Öffentliche Rundfahrt
ATTACH;FMTTYPE=image/jpeg:https://carobahn.de/wp-content/uploads/2025/02/Carobahn-13.4.22-4-scaled-xV9waX.tmp_.jpg
END:VEVENT
BEGIN:VEVENT
DTSTART;TZID=Europe/Berlin:20260829T110000
DTEND;TZID=Europe/Berlin:20260829T171500
DTSTAMP:20260424T135344
CREATED:20260208T201943Z
LAST-MODIFIED:20260208T201943Z
UID:9987-1788001200-1788023700@carobahn.de
SUMMARY:Linienfahrt 29. August 2026
DESCRIPTION:Wir bringen Sie bequem zu den Sehenswürdigkeiten und zum Strand! Tageskarten sind nicht übertragbare Karten
URL:https://carobahn.de/event/linienfahrt-29-august-2026/
CATEGORIES:Linienfahrt
ATTACH;FMTTYPE=image/jpeg:https://carobahn.de/wp-content/uploads/2025/02/Carobahn-13.4.22-22-scaled-m2mqOE.tmp_.jpg
END:VEVENT
BEGIN:VEVENT
DTSTART;TZID=Europe/Berlin:20260830T110000
DTEND;TZID=Europe/Berlin:20260830T171500
DTSTAMP:20260424T135344
CREATED:20260208T201945Z
LAST-MODIFIED:20260208T201945Z
UID:9988-1788087600-1788110100@carobahn.de
SUMMARY:Linienfahrt 30. August 2026
DESCRIPTION:Wir bringen Sie bequem zu den Sehenswürdigkeiten und zum Strand! Tageskarten sind nicht übertragbare Karten
URL:https://carobahn.de/event/linienfahrt-30-august-2026/
CATEGORIES:Linienfahrt
ATTACH;FMTTYPE=image/jpeg:https://carobahn.de/wp-content/uploads/2025/02/Carobahn-13.4.22-22-scaled-m2mqOE.tmp_.jpg
END:VEVENT
BEGIN:VEVENT
DTSTART;TZID=Europe/Berlin:20260831T110000
DTEND;TZID=Europe/Berlin:20260831T171500
DTSTAMP:20260424T135344
CREATED:20260208T201946Z
LAST-MODIFIED:20260208T201946Z
UID:9989-1788174000-1788196500@carobahn.de
SUMMARY:Linienfahrt 31. August 2026
DESCRIPTION:Wir bringen Sie bequem zu den Sehenswürdigkeiten und zum Strand! Tageskarten sind nicht übertragbare Karten
URL:https://carobahn.de/event/linienfahrt-31-august-2026/
CATEGORIES:Linienfahrt
ATTACH;FMTTYPE=image/jpeg:https://carobahn.de/wp-content/uploads/2025/02/Carobahn-13.4.22-22-scaled-m2mqOE.tmp_.jpg
END:VEVENT
BEGIN:VEVENT
DTSTART;TZID=Europe/Berlin:20260831T173000
DTEND;TZID=Europe/Berlin:20260831T184500
DTSTAMP:20260424T135344
CREATED:20260208T205925Z
LAST-MODIFIED:20260208T205925Z
UID:10226-1788197400-1788201900@carobahn.de
SUMMARY:Öffentliche Rundfahrt 31. August 2026
DESCRIPTION:
URL:https://carobahn.de/event/oeffentliche-rundfahrt-31-august-2026/
LOCATION:Haltestelle Feuerwehr\, Neue Str. 4\, Wittmund\, 26409
CATEGORIES:Öffentliche Rundfahrt
END:VEVENT
END:VCALENDAR