BEGIN:VCALENDAR
VERSION:2.0
PRODID:-//Carobahn - ECPv6.15.20//NONSGML v1.0//EN
CALSCALE:GREGORIAN
METHOD:PUBLISH
X-ORIGINAL-URL:https://carobahn.de
X-WR-CALDESC:Veranstaltungen für Carobahn
REFRESH-INTERVAL;VALUE=DURATION:PT1H
X-Robots-Tag:noindex
X-PUBLISHED-TTL:PT1H
BEGIN:VTIMEZONE
TZID:Europe/Berlin
BEGIN:DAYLIGHT
TZOFFSETFROM:+0100
TZOFFSETTO:+0200
TZNAME:CEST
DTSTART:20250330T010000
END:DAYLIGHT
BEGIN:STANDARD
TZOFFSETFROM:+0200
TZOFFSETTO:+0100
TZNAME:CET
DTSTART:20251026T010000
END:STANDARD
BEGIN:DAYLIGHT
TZOFFSETFROM:+0100
TZOFFSETTO:+0200
TZNAME:CEST
DTSTART:20260329T010000
END:DAYLIGHT
BEGIN:STANDARD
TZOFFSETFROM:+0200
TZOFFSETTO:+0100
TZNAME:CET
DTSTART:20261025T010000
END:STANDARD
BEGIN:DAYLIGHT
TZOFFSETFROM:+0100
TZOFFSETTO:+0200
TZNAME:CEST
DTSTART:20270328T010000
END:DAYLIGHT
BEGIN:STANDARD
TZOFFSETFROM:+0200
TZOFFSETTO:+0100
TZNAME:CET
DTSTART:20271031T010000
END:STANDARD
END:VTIMEZONE
BEGIN:VEVENT
DTSTART;TZID=Europe/Berlin:20260514T110000
DTEND;TZID=Europe/Berlin:20260514T171500
DTSTAMP:20260422T020048
CREATED:20260208T201156Z
LAST-MODIFIED:20260208T201156Z
UID:9880-1778756400-1778778900@carobahn.de
SUMMARY:Linienfahrt 14. Mai 2026
DESCRIPTION:Wir bringen Sie bequem zu den Sehenswürdigkeiten und zum Strand! Tageskarten sind nicht übertragbare Karten
URL:https://carobahn.de/event/linienfahrt-14-mai-2026/
CATEGORIES:Linienfahrt
ATTACH;FMTTYPE=image/jpeg:https://carobahn.de/wp-content/uploads/2025/02/Carobahn-13.4.22-22-scaled-m2mqOE.tmp_.jpg
END:VEVENT
BEGIN:VEVENT
DTSTART;TZID=Europe/Berlin:20260515T110000
DTEND;TZID=Europe/Berlin:20260515T171500
DTSTAMP:20260422T020048
CREATED:20260208T201158Z
LAST-MODIFIED:20260208T201158Z
UID:9881-1778842800-1778865300@carobahn.de
SUMMARY:Linienfahrt 15. Mai 2026
DESCRIPTION:Wir bringen Sie bequem zu den Sehenswürdigkeiten und zum Strand! Tageskarten sind nicht übertragbare Karten
URL:https://carobahn.de/event/linienfahrt-15-mai-2026/
CATEGORIES:Linienfahrt
ATTACH;FMTTYPE=image/jpeg:https://carobahn.de/wp-content/uploads/2025/02/Carobahn-13.4.22-22-scaled-m2mqOE.tmp_.jpg
END:VEVENT
BEGIN:VEVENT
DTSTART;TZID=Europe/Berlin:20260515T173000
DTEND;TZID=Europe/Berlin:20260515T184500
DTSTAMP:20260422T020048
CREATED:20260208T205624Z
LAST-MODIFIED:20260208T205624Z
UID:10193-1778866200-1778870700@carobahn.de
SUMMARY:Öffentliche Rundfahrt 15. Mai 2026
DESCRIPTION:Gästeführer Carsten fährt mit Ihnen durch Carolinensiel und erzählt die Geschichte des Sielortes.
URL:https://carobahn.de/event/oeffentliche-rundfahrt-15-mai-2026/
LOCATION:Haltestelle Feuerwehr\, Neue Str. 4\, Wittmund\, 26409
CATEGORIES:Öffentliche Rundfahrt
ATTACH;FMTTYPE=image/jpeg:https://carobahn.de/wp-content/uploads/2025/02/Carobahn-13.4.22-4-scaled-xV9waX.tmp_.jpg
END:VEVENT
BEGIN:VEVENT
DTSTART;TZID=Europe/Berlin:20260516T110000
DTEND;TZID=Europe/Berlin:20260516T171500
DTSTAMP:20260422T020048
CREATED:20260208T201217Z
LAST-MODIFIED:20260208T201217Z
UID:9882-1778929200-1778951700@carobahn.de
SUMMARY:Linienfahrt 16. Mai 2026
DESCRIPTION:Wir bringen Sie bequem zu den Sehenswürdigkeiten und zum Strand! Tageskarten sind nicht übertragbare Karten
URL:https://carobahn.de/event/linienfahrt-16-mai-2026/
CATEGORIES:Linienfahrt
ATTACH;FMTTYPE=image/jpeg:https://carobahn.de/wp-content/uploads/2025/02/Carobahn-13.4.22-22-scaled-m2mqOE.tmp_.jpg
END:VEVENT
BEGIN:VEVENT
DTSTART;TZID=Europe/Berlin:20260517T110000
DTEND;TZID=Europe/Berlin:20260517T171500
DTSTAMP:20260422T020048
CREATED:20260208T201218Z
LAST-MODIFIED:20260208T201218Z
UID:9883-1779015600-1779038100@carobahn.de
SUMMARY:Linienfahrt 17. Mai 2026
DESCRIPTION:Wir bringen Sie bequem zu den Sehenswürdigkeiten und zum Strand! Tageskarten sind nicht übertragbare Karten
URL:https://carobahn.de/event/linienfahrt-17-mai-2026/
CATEGORIES:Linienfahrt
ATTACH;FMTTYPE=image/jpeg:https://carobahn.de/wp-content/uploads/2025/02/Carobahn-13.4.22-22-scaled-m2mqOE.tmp_.jpg
END:VEVENT
BEGIN:VEVENT
DTSTART;TZID=Europe/Berlin:20260518T110000
DTEND;TZID=Europe/Berlin:20260518T171500
DTSTAMP:20260422T020048
CREATED:20260208T201220Z
LAST-MODIFIED:20260208T201220Z
UID:9884-1779102000-1779124500@carobahn.de
SUMMARY:Linienfahrt 18. Mai 2026
DESCRIPTION:Wir bringen Sie bequem zu den Sehenswürdigkeiten und zum Strand! Tageskarten sind nicht übertragbare Karten
URL:https://carobahn.de/event/linienfahrt-18-mai-2026/
CATEGORIES:Linienfahrt
ATTACH;FMTTYPE=image/jpeg:https://carobahn.de/wp-content/uploads/2025/02/Carobahn-13.4.22-22-scaled-m2mqOE.tmp_.jpg
END:VEVENT
BEGIN:VEVENT
DTSTART;TZID=Europe/Berlin:20260519T110000
DTEND;TZID=Europe/Berlin:20260519T171500
DTSTAMP:20260422T020048
CREATED:20260208T201221Z
LAST-MODIFIED:20260208T201221Z
UID:9885-1779188400-1779210900@carobahn.de
SUMMARY:Linienfahrt 19. Mai 2026
DESCRIPTION:Wir bringen Sie bequem zu den Sehenswürdigkeiten und zum Strand! Tageskarten sind nicht übertragbare Karten
URL:https://carobahn.de/event/linienfahrt-19-mai-2026/
CATEGORIES:Linienfahrt
ATTACH;FMTTYPE=image/jpeg:https://carobahn.de/wp-content/uploads/2025/02/Carobahn-13.4.22-22-scaled-m2mqOE.tmp_.jpg
END:VEVENT
BEGIN:VEVENT
DTSTART;TZID=Europe/Berlin:20260520T110000
DTEND;TZID=Europe/Berlin:20260520T171500
DTSTAMP:20260422T020048
CREATED:20260208T201223Z
LAST-MODIFIED:20260208T201223Z
UID:9886-1779274800-1779297300@carobahn.de
SUMMARY:Linienfahrt 20. Mai 2026
DESCRIPTION:Wir bringen Sie bequem zu den Sehenswürdigkeiten und zum Strand! Tageskarten sind nicht übertragbare Karten
URL:https://carobahn.de/event/linienfahrt-20-mai-2026/
CATEGORIES:Linienfahrt
ATTACH;FMTTYPE=image/jpeg:https://carobahn.de/wp-content/uploads/2025/02/Carobahn-13.4.22-22-scaled-m2mqOE.tmp_.jpg
END:VEVENT
BEGIN:VEVENT
DTSTART;TZID=Europe/Berlin:20260521T110000
DTEND;TZID=Europe/Berlin:20260521T171500
DTSTAMP:20260422T020048
CREATED:20260208T201241Z
LAST-MODIFIED:20260208T201241Z
UID:9887-1779361200-1779383700@carobahn.de
SUMMARY:Linienfahrt 21. Mai 2026
DESCRIPTION:Wir bringen Sie bequem zu den Sehenswürdigkeiten und zum Strand! Tageskarten sind nicht übertragbare Karten
URL:https://carobahn.de/event/linienfahrt-21-mai-2026/
CATEGORIES:Linienfahrt
ATTACH;FMTTYPE=image/jpeg:https://carobahn.de/wp-content/uploads/2025/02/Carobahn-13.4.22-22-scaled-m2mqOE.tmp_.jpg
END:VEVENT
BEGIN:VEVENT
DTSTART;TZID=Europe/Berlin:20260522T110000
DTEND;TZID=Europe/Berlin:20260522T171500
DTSTAMP:20260422T020048
CREATED:20260208T201243Z
LAST-MODIFIED:20260208T201243Z
UID:9888-1779447600-1779470100@carobahn.de
SUMMARY:Linienfahrt 22. Mai 2026
DESCRIPTION:Wir bringen Sie bequem zu den Sehenswürdigkeiten und zum Strand! Tageskarten sind nicht übertragbare Karten
URL:https://carobahn.de/event/linienfahrt-22-mai-2026/
CATEGORIES:Linienfahrt
ATTACH;FMTTYPE=image/jpeg:https://carobahn.de/wp-content/uploads/2025/02/Carobahn-13.4.22-22-scaled-m2mqOE.tmp_.jpg
END:VEVENT
BEGIN:VEVENT
DTSTART;TZID=Europe/Berlin:20260522T173000
DTEND;TZID=Europe/Berlin:20260522T184500
DTSTAMP:20260422T020048
CREATED:20260208T205625Z
LAST-MODIFIED:20260208T205625Z
UID:10194-1779471000-1779475500@carobahn.de
SUMMARY:Öffentliche Rundfahrt 22. Mai 2026
DESCRIPTION:Gästeführer Carsten fährt mit Ihnen durch Carolinensiel und erzählt die Geschichte des Sielortes.
URL:https://carobahn.de/event/oeffentliche-rundfahrt-22-mai-2026/
LOCATION:Haltestelle Feuerwehr\, Neue Str. 4\, Wittmund\, 26409
CATEGORIES:Öffentliche Rundfahrt
ATTACH;FMTTYPE=image/jpeg:https://carobahn.de/wp-content/uploads/2025/02/Carobahn-13.4.22-4-scaled-xV9waX.tmp_.jpg
END:VEVENT
BEGIN:VEVENT
DTSTART;TZID=Europe/Berlin:20260523T110000
DTEND;TZID=Europe/Berlin:20260523T171500
DTSTAMP:20260422T020048
CREATED:20260208T201244Z
LAST-MODIFIED:20260208T201244Z
UID:9889-1779534000-1779556500@carobahn.de
SUMMARY:Linienfahrt 23. Mai 2026
DESCRIPTION:Wir bringen Sie bequem zu den Sehenswürdigkeiten und zum Strand! Tageskarten sind nicht übertragbare Karten
URL:https://carobahn.de/event/linienfahrt-23-mai-2026/
CATEGORIES:Linienfahrt
ATTACH;FMTTYPE=image/jpeg:https://carobahn.de/wp-content/uploads/2025/02/Carobahn-13.4.22-22-scaled-m2mqOE.tmp_.jpg
END:VEVENT
BEGIN:VEVENT
DTSTART;TZID=Europe/Berlin:20260524T110000
DTEND;TZID=Europe/Berlin:20260524T171500
DTSTAMP:20260422T020048
CREATED:20260208T201246Z
LAST-MODIFIED:20260208T201246Z
UID:9890-1779620400-1779642900@carobahn.de
SUMMARY:Linienfahrt 24. Mai 2026
DESCRIPTION:Wir bringen Sie bequem zu den Sehenswürdigkeiten und zum Strand! Tageskarten sind nicht übertragbare Karten
URL:https://carobahn.de/event/linienfahrt-24-mai-2026/
CATEGORIES:Linienfahrt
ATTACH;FMTTYPE=image/jpeg:https://carobahn.de/wp-content/uploads/2025/02/Carobahn-13.4.22-22-scaled-m2mqOE.tmp_.jpg
END:VEVENT
BEGIN:VEVENT
DTSTART;TZID=Europe/Berlin:20260525T110000
DTEND;TZID=Europe/Berlin:20260525T171500
DTSTAMP:20260422T020048
CREATED:20260208T201247Z
LAST-MODIFIED:20260208T201247Z
UID:9891-1779706800-1779729300@carobahn.de
SUMMARY:Linienfahrt 25. Mai 2026
DESCRIPTION:Wir bringen Sie bequem zu den Sehenswürdigkeiten und zum Strand! Tageskarten sind nicht übertragbare Karten
URL:https://carobahn.de/event/linienfahrt-25-mai-2026/
CATEGORIES:Linienfahrt
ATTACH;FMTTYPE=image/jpeg:https://carobahn.de/wp-content/uploads/2025/02/Carobahn-13.4.22-22-scaled-m2mqOE.tmp_.jpg
END:VEVENT
BEGIN:VEVENT
DTSTART;TZID=Europe/Berlin:20260526T110000
DTEND;TZID=Europe/Berlin:20260526T171500
DTSTAMP:20260422T020048
CREATED:20260208T201305Z
LAST-MODIFIED:20260208T201305Z
UID:9892-1779793200-1779815700@carobahn.de
SUMMARY:Linienfahrt 26. Mai 2026
DESCRIPTION:Wir bringen Sie bequem zu den Sehenswürdigkeiten und zum Strand! Tageskarten sind nicht übertragbare Karten
URL:https://carobahn.de/event/linienfahrt-26-mai-2026/
CATEGORIES:Linienfahrt
ATTACH;FMTTYPE=image/jpeg:https://carobahn.de/wp-content/uploads/2025/02/Carobahn-13.4.22-22-scaled-m2mqOE.tmp_.jpg
END:VEVENT
BEGIN:VEVENT
DTSTART;TZID=Europe/Berlin:20260527T110000
DTEND;TZID=Europe/Berlin:20260527T171500
DTSTAMP:20260422T020048
CREATED:20260208T201307Z
LAST-MODIFIED:20260208T201307Z
UID:9893-1779879600-1779902100@carobahn.de
SUMMARY:Linienfahrt 27. Mai 2026
DESCRIPTION:Wir bringen Sie bequem zu den Sehenswürdigkeiten und zum Strand! Tageskarten sind nicht übertragbare Karten
URL:https://carobahn.de/event/linienfahrt-27-mai-2026/
CATEGORIES:Linienfahrt
ATTACH;FMTTYPE=image/jpeg:https://carobahn.de/wp-content/uploads/2025/02/Carobahn-13.4.22-22-scaled-m2mqOE.tmp_.jpg
END:VEVENT
BEGIN:VEVENT
DTSTART;TZID=Europe/Berlin:20260528T110000
DTEND;TZID=Europe/Berlin:20260528T171500
DTSTAMP:20260422T020048
CREATED:20260208T201308Z
LAST-MODIFIED:20260208T201308Z
UID:9894-1779966000-1779988500@carobahn.de
SUMMARY:Linienfahrt 28. Mai 2026
DESCRIPTION:Wir bringen Sie bequem zu den Sehenswürdigkeiten und zum Strand! Tageskarten sind nicht übertragbare Karten
URL:https://carobahn.de/event/linienfahrt-28-mai-2026/
CATEGORIES:Linienfahrt
ATTACH;FMTTYPE=image/jpeg:https://carobahn.de/wp-content/uploads/2025/02/Carobahn-13.4.22-22-scaled-m2mqOE.tmp_.jpg
END:VEVENT
BEGIN:VEVENT
DTSTART;TZID=Europe/Berlin:20260529T110000
DTEND;TZID=Europe/Berlin:20260529T171500
DTSTAMP:20260422T020048
CREATED:20260208T201310Z
LAST-MODIFIED:20260208T201310Z
UID:9895-1780052400-1780074900@carobahn.de
SUMMARY:Linienfahrt 29. Mai 2026
DESCRIPTION:Wir bringen Sie bequem zu den Sehenswürdigkeiten und zum Strand! Tageskarten sind nicht übertragbare Karten
URL:https://carobahn.de/event/linienfahrt-29-mai-2026/
CATEGORIES:Linienfahrt
ATTACH;FMTTYPE=image/jpeg:https://carobahn.de/wp-content/uploads/2025/02/Carobahn-13.4.22-22-scaled-m2mqOE.tmp_.jpg
END:VEVENT
BEGIN:VEVENT
DTSTART;TZID=Europe/Berlin:20260529T173000
DTEND;TZID=Europe/Berlin:20260529T184500
DTSTAMP:20260422T020048
CREATED:20260208T205627Z
LAST-MODIFIED:20260208T205627Z
UID:10195-1780075800-1780080300@carobahn.de
SUMMARY:Öffentliche Rundfahrt 29. Mai 2026
DESCRIPTION:Gästeführer Carsten fährt mit Ihnen durch Carolinensiel und erzählt die Geschichte des Sielortes.
URL:https://carobahn.de/event/oeffentliche-rundfahrt-29-mai-2026/
LOCATION:Haltestelle Feuerwehr\, Neue Str. 4\, Wittmund\, 26409
CATEGORIES:Öffentliche Rundfahrt
ATTACH;FMTTYPE=image/jpeg:https://carobahn.de/wp-content/uploads/2025/02/Carobahn-13.4.22-4-scaled-xV9waX.tmp_.jpg
END:VEVENT
BEGIN:VEVENT
DTSTART;TZID=Europe/Berlin:20260530T110000
DTEND;TZID=Europe/Berlin:20260530T171500
DTSTAMP:20260422T020048
CREATED:20260208T201311Z
LAST-MODIFIED:20260208T201311Z
UID:9896-1780138800-1780161300@carobahn.de
SUMMARY:Linienfahrt 30. Mai 2026
DESCRIPTION:Wir bringen Sie bequem zu den Sehenswürdigkeiten und zum Strand! Tageskarten sind nicht übertragbare Karten
URL:https://carobahn.de/event/linienfahrt-30-mai-2026/
CATEGORIES:Linienfahrt
ATTACH;FMTTYPE=image/jpeg:https://carobahn.de/wp-content/uploads/2025/02/Carobahn-13.4.22-22-scaled-m2mqOE.tmp_.jpg
END:VEVENT
BEGIN:VEVENT
DTSTART;TZID=Europe/Berlin:20260531T110000
DTEND;TZID=Europe/Berlin:20260531T171500
DTSTAMP:20260422T020048
CREATED:20260208T201329Z
LAST-MODIFIED:20260208T201329Z
UID:9897-1780225200-1780247700@carobahn.de
SUMMARY:Linienfahrt 31. Mai 2026
DESCRIPTION:Wir bringen Sie bequem zu den Sehenswürdigkeiten und zum Strand! Tageskarten sind nicht übertragbare Karten
URL:https://carobahn.de/event/linienfahrt-31-mai-2026/
CATEGORIES:Linienfahrt
ATTACH;FMTTYPE=image/jpeg:https://carobahn.de/wp-content/uploads/2025/02/Carobahn-13.4.22-22-scaled-m2mqOE.tmp_.jpg
END:VEVENT
BEGIN:VEVENT
DTSTART;TZID=Europe/Berlin:20260601T110000
DTEND;TZID=Europe/Berlin:20260601T171500
DTSTAMP:20260422T020048
CREATED:20260208T201331Z
LAST-MODIFIED:20260208T201331Z
UID:9898-1780311600-1780334100@carobahn.de
SUMMARY:Linienfahrt 01. Juni 2026
DESCRIPTION:Wir bringen Sie bequem zu den Sehenswürdigkeiten und zum Strand! Tageskarten sind nicht übertragbare Karten
URL:https://carobahn.de/event/linienfahrt-01-juni-2026/
CATEGORIES:Linienfahrt
ATTACH;FMTTYPE=image/jpeg:https://carobahn.de/wp-content/uploads/2025/02/Carobahn-13.4.22-22-scaled-m2mqOE.tmp_.jpg
END:VEVENT
BEGIN:VEVENT
DTSTART;TZID=Europe/Berlin:20260601T173000
DTEND;TZID=Europe/Berlin:20260601T184500
DTSTAMP:20260422T020048
CREATED:20260208T205842Z
LAST-MODIFIED:20260208T205842Z
UID:10213-1780335000-1780339500@carobahn.de
SUMMARY:Öffentliche Rundfahrt 01. Juni 2026
DESCRIPTION:Gästeführer Carsten fährt mit Ihnen durch Carolinensiel und erzählt die Geschichte des Sielortes.
URL:https://carobahn.de/event/oeffentliche-rundfahrt-01-juni-2026/
LOCATION:Haltestelle Feuerwehr\, Neue Str. 4\, Wittmund\, 26409
CATEGORIES:Öffentliche Rundfahrt
ATTACH;FMTTYPE=image/jpeg:https://carobahn.de/wp-content/uploads/2025/02/Carobahn-13.4.22-4-scaled-xV9waX.tmp_.jpg
END:VEVENT
BEGIN:VEVENT
DTSTART;TZID=Europe/Berlin:20260602T110000
DTEND;TZID=Europe/Berlin:20260602T171500
DTSTAMP:20260422T020048
CREATED:20260208T201332Z
LAST-MODIFIED:20260208T201332Z
UID:9899-1780398000-1780420500@carobahn.de
SUMMARY:Linienfahrt 02. Juni 2026
DESCRIPTION:Wir bringen Sie bequem zu den Sehenswürdigkeiten und zum Strand! Tageskarten sind nicht übertragbare Karten
URL:https://carobahn.de/event/linienfahrt-02-juni-2026/
CATEGORIES:Linienfahrt
ATTACH;FMTTYPE=image/jpeg:https://carobahn.de/wp-content/uploads/2025/02/Carobahn-13.4.22-22-scaled-m2mqOE.tmp_.jpg
END:VEVENT
BEGIN:VEVENT
DTSTART;TZID=Europe/Berlin:20260603T110000
DTEND;TZID=Europe/Berlin:20260603T171500
DTSTAMP:20260422T020048
CREATED:20260208T201333Z
LAST-MODIFIED:20260208T201333Z
UID:9900-1780484400-1780506900@carobahn.de
SUMMARY:Linienfahrt 03. Juni 2026
DESCRIPTION:Wir bringen Sie bequem zu den Sehenswürdigkeiten und zum Strand! Tageskarten sind nicht übertragbare Karten
URL:https://carobahn.de/event/linienfahrt-03-juni-2026/
CATEGORIES:Linienfahrt
ATTACH;FMTTYPE=image/jpeg:https://carobahn.de/wp-content/uploads/2025/02/Carobahn-13.4.22-22-scaled-m2mqOE.tmp_.jpg
END:VEVENT
BEGIN:VEVENT
DTSTART;TZID=Europe/Berlin:20260604T110000
DTEND;TZID=Europe/Berlin:20260604T171500
DTSTAMP:20260422T020048
CREATED:20260208T201335Z
LAST-MODIFIED:20260208T201335Z
UID:9901-1780570800-1780593300@carobahn.de
SUMMARY:Linienfahrt 04. Juni 2026
DESCRIPTION:Wir bringen Sie bequem zu den Sehenswürdigkeiten und zum Strand! Tageskarten sind nicht übertragbare Karten
URL:https://carobahn.de/event/linienfahrt-04-juni-2026/
CATEGORIES:Linienfahrt
ATTACH;FMTTYPE=image/jpeg:https://carobahn.de/wp-content/uploads/2025/02/Carobahn-13.4.22-22-scaled-m2mqOE.tmp_.jpg
END:VEVENT
BEGIN:VEVENT
DTSTART;TZID=Europe/Berlin:20260605T110000
DTEND;TZID=Europe/Berlin:20260605T171500
DTSTAMP:20260422T020048
CREATED:20260208T201359Z
LAST-MODIFIED:20260208T201359Z
UID:9902-1780657200-1780679700@carobahn.de
SUMMARY:Linienfahrt 05. Juni 2026
DESCRIPTION:Wir bringen Sie bequem zu den Sehenswürdigkeiten und zum Strand! Tageskarten sind nicht übertragbare Karten
URL:https://carobahn.de/event/linienfahrt-05-juni-2026/
CATEGORIES:Linienfahrt
ATTACH;FMTTYPE=image/jpeg:https://carobahn.de/wp-content/uploads/2025/02/Carobahn-13.4.22-22-scaled-m2mqOE.tmp_.jpg
END:VEVENT
BEGIN:VEVENT
DTSTART;TZID=Europe/Berlin:20260605T173000
DTEND;TZID=Europe/Berlin:20260605T184500
DTSTAMP:20260422T020048
CREATED:20260208T205631Z
LAST-MODIFIED:20260208T205631Z
UID:10196-1780680600-1780685100@carobahn.de
SUMMARY:Öffentliche Rundfahrt 05. Juni 2026
DESCRIPTION:Gästeführer Carsten fährt mit Ihnen durch Carolinensiel und erzählt die Geschichte des Sielortes.
URL:https://carobahn.de/event/oeffentliche-rundfahrt-05-juni-2026/
LOCATION:Haltestelle Feuerwehr\, Neue Str. 4\, Wittmund\, 26409
CATEGORIES:Öffentliche Rundfahrt
ATTACH;FMTTYPE=image/jpeg:https://carobahn.de/wp-content/uploads/2025/02/Carobahn-13.4.22-4-scaled-xV9waX.tmp_.jpg
END:VEVENT
BEGIN:VEVENT
DTSTART;TZID=Europe/Berlin:20260606T110000
DTEND;TZID=Europe/Berlin:20260606T171500
DTSTAMP:20260422T020048
CREATED:20260208T201401Z
LAST-MODIFIED:20260208T201401Z
UID:9903-1780743600-1780766100@carobahn.de
SUMMARY:Linienfahrt 06. Juni 2026
DESCRIPTION:Wir bringen Sie bequem zu den Sehenswürdigkeiten und zum Strand! Tageskarten sind nicht übertragbare Karten
URL:https://carobahn.de/event/linienfahrt-06-juni-2026/
CATEGORIES:Linienfahrt
ATTACH;FMTTYPE=image/jpeg:https://carobahn.de/wp-content/uploads/2025/02/Carobahn-13.4.22-22-scaled-m2mqOE.tmp_.jpg
END:VEVENT
BEGIN:VEVENT
DTSTART;TZID=Europe/Berlin:20260607T110000
DTEND;TZID=Europe/Berlin:20260607T171500
DTSTAMP:20260422T020048
CREATED:20260208T201404Z
LAST-MODIFIED:20260208T201404Z
UID:9904-1780830000-1780852500@carobahn.de
SUMMARY:Linienfahrt 07. Juni 2026
DESCRIPTION:Wir bringen Sie bequem zu den Sehenswürdigkeiten und zum Strand! Tageskarten sind nicht übertragbare Karten
URL:https://carobahn.de/event/linienfahrt-07-juni-2026/
CATEGORIES:Linienfahrt
ATTACH;FMTTYPE=image/jpeg:https://carobahn.de/wp-content/uploads/2025/02/Carobahn-13.4.22-22-scaled-m2mqOE.tmp_.jpg
END:VEVENT
END:VCALENDAR