BEGIN:VCALENDAR
VERSION:2.0
PRODID:-//Carobahn - ECPv6.15.20//NONSGML v1.0//EN
CALSCALE:GREGORIAN
METHOD:PUBLISH
X-WR-CALNAME:Carobahn
X-ORIGINAL-URL:https://carobahn.de
X-WR-CALDESC:Veranstaltungen für Carobahn
REFRESH-INTERVAL;VALUE=DURATION:PT1H
X-Robots-Tag:noindex
X-PUBLISHED-TTL:PT1H
BEGIN:VTIMEZONE
TZID:Europe/Berlin
BEGIN:DAYLIGHT
TZOFFSETFROM:+0100
TZOFFSETTO:+0200
TZNAME:CEST
DTSTART:20250330T010000
END:DAYLIGHT
BEGIN:STANDARD
TZOFFSETFROM:+0200
TZOFFSETTO:+0100
TZNAME:CET
DTSTART:20251026T010000
END:STANDARD
BEGIN:DAYLIGHT
TZOFFSETFROM:+0100
TZOFFSETTO:+0200
TZNAME:CEST
DTSTART:20260329T010000
END:DAYLIGHT
BEGIN:STANDARD
TZOFFSETFROM:+0200
TZOFFSETTO:+0100
TZNAME:CET
DTSTART:20261025T010000
END:STANDARD
BEGIN:DAYLIGHT
TZOFFSETFROM:+0100
TZOFFSETTO:+0200
TZNAME:CEST
DTSTART:20270328T010000
END:DAYLIGHT
BEGIN:STANDARD
TZOFFSETFROM:+0200
TZOFFSETTO:+0100
TZNAME:CET
DTSTART:20271031T010000
END:STANDARD
END:VTIMEZONE
BEGIN:VEVENT
DTSTART;TZID=Europe/Berlin:20260612T173000
DTEND;TZID=Europe/Berlin:20260612T184500
DTSTAMP:20260422T071119
CREATED:20260208T205632Z
LAST-MODIFIED:20260208T205632Z
UID:10197-1781285400-1781289900@carobahn.de
SUMMARY:Öffentliche Rundfahrt 12. Juni 2026
DESCRIPTION:Gästeführer Carsten fährt mit Ihnen durch Carolinensiel und erzählt die Geschichte des Sielortes.
URL:https://carobahn.de/event/oeffentliche-rundfahrt-12-juni-2026/
LOCATION:Haltestelle Feuerwehr\, Neue Str. 4\, Wittmund\, 26409
CATEGORIES:Öffentliche Rundfahrt
ATTACH;FMTTYPE=image/jpeg:https://carobahn.de/wp-content/uploads/2025/02/Carobahn-13.4.22-4-scaled-xV9waX.tmp_.jpg
END:VEVENT
BEGIN:VEVENT
DTSTART;TZID=Europe/Berlin:20260613T110000
DTEND;TZID=Europe/Berlin:20260613T171500
DTSTAMP:20260422T071119
CREATED:20260208T201418Z
LAST-MODIFIED:20260208T201418Z
UID:9910-1781348400-1781370900@carobahn.de
SUMMARY:Linienfahrt 13. Juni 2026
DESCRIPTION:Wir bringen Sie bequem zu den Sehenswürdigkeiten und zum Strand! Tageskarten sind nicht übertragbare Karten
URL:https://carobahn.de/event/linienfahrt-13-juni-2026/
CATEGORIES:Linienfahrt
ATTACH;FMTTYPE=image/jpeg:https://carobahn.de/wp-content/uploads/2025/02/Carobahn-13.4.22-22-scaled-m2mqOE.tmp_.jpg
END:VEVENT
BEGIN:VEVENT
DTSTART;TZID=Europe/Berlin:20260614T110000
DTEND;TZID=Europe/Berlin:20260614T171500
DTSTAMP:20260422T071119
CREATED:20260208T201419Z
LAST-MODIFIED:20260208T201419Z
UID:9911-1781434800-1781457300@carobahn.de
SUMMARY:Linienfahrt 14. Juni 2026
DESCRIPTION:Wir bringen Sie bequem zu den Sehenswürdigkeiten und zum Strand! Tageskarten sind nicht übertragbare Karten
URL:https://carobahn.de/event/linienfahrt-14-juni-2026/
CATEGORIES:Linienfahrt
ATTACH;FMTTYPE=image/jpeg:https://carobahn.de/wp-content/uploads/2025/02/Carobahn-13.4.22-22-scaled-m2mqOE.tmp_.jpg
END:VEVENT
BEGIN:VEVENT
DTSTART;TZID=Europe/Berlin:20260615T110000
DTEND;TZID=Europe/Berlin:20260615T171500
DTSTAMP:20260422T071119
CREATED:20260208T201425Z
LAST-MODIFIED:20260208T201425Z
UID:9912-1781521200-1781543700@carobahn.de
SUMMARY:Linienfahrt 15. Juni 2026
DESCRIPTION:Wir bringen Sie bequem zu den Sehenswürdigkeiten und zum Strand! Tageskarten sind nicht übertragbare Karten
URL:https://carobahn.de/event/linienfahrt-15-juni-2026/
CATEGORIES:Linienfahrt
ATTACH;FMTTYPE=image/jpeg:https://carobahn.de/wp-content/uploads/2025/02/Carobahn-13.4.22-22-scaled-m2mqOE.tmp_.jpg
END:VEVENT
BEGIN:VEVENT
DTSTART;TZID=Europe/Berlin:20260615T173000
DTEND;TZID=Europe/Berlin:20260615T184500
DTSTAMP:20260422T071119
CREATED:20260208T205844Z
LAST-MODIFIED:20260208T205844Z
UID:10215-1781544600-1781549100@carobahn.de
SUMMARY:Öffentliche Rundfahrt 15. Juni 2026
DESCRIPTION:Gästeführer Carsten fährt mit Ihnen durch Carolinensiel und erzählt die Geschichte des Sielortes.
URL:https://carobahn.de/event/oeffentliche-rundfahrt-15-juni-2026/
LOCATION:Haltestelle Feuerwehr\, Neue Str. 4\, Wittmund\, 26409
CATEGORIES:Öffentliche Rundfahrt
ATTACH;FMTTYPE=image/jpeg:https://carobahn.de/wp-content/uploads/2025/02/Carobahn-13.4.22-4-scaled-xV9waX.tmp_.jpg
END:VEVENT
BEGIN:VEVENT
DTSTART;TZID=Europe/Berlin:20260616T110000
DTEND;TZID=Europe/Berlin:20260616T171500
DTSTAMP:20260422T071119
CREATED:20260208T201426Z
LAST-MODIFIED:20260208T201426Z
UID:9913-1781607600-1781630100@carobahn.de
SUMMARY:Linienfahrt 16. Juni 2026
DESCRIPTION:Wir bringen Sie bequem zu den Sehenswürdigkeiten und zum Strand! Tageskarten sind nicht übertragbare Karten
URL:https://carobahn.de/event/linienfahrt-16-juni-2026/
CATEGORIES:Linienfahrt
ATTACH;FMTTYPE=image/jpeg:https://carobahn.de/wp-content/uploads/2025/02/Carobahn-13.4.22-22-scaled-m2mqOE.tmp_.jpg
END:VEVENT
BEGIN:VEVENT
DTSTART;TZID=Europe/Berlin:20260617T110000
DTEND;TZID=Europe/Berlin:20260617T171500
DTSTAMP:20260422T071119
CREATED:20260208T201428Z
LAST-MODIFIED:20260208T201428Z
UID:9914-1781694000-1781716500@carobahn.de
SUMMARY:Linienfahrt 17. Juni 2026
DESCRIPTION:Wir bringen Sie bequem zu den Sehenswürdigkeiten und zum Strand! Tageskarten sind nicht übertragbare Karten
URL:https://carobahn.de/event/linienfahrt-17-juni-2026/
CATEGORIES:Linienfahrt
ATTACH;FMTTYPE=image/jpeg:https://carobahn.de/wp-content/uploads/2025/02/Carobahn-13.4.22-22-scaled-m2mqOE.tmp_.jpg
END:VEVENT
BEGIN:VEVENT
DTSTART;TZID=Europe/Berlin:20260618T110000
DTEND;TZID=Europe/Berlin:20260618T171500
DTSTAMP:20260422T071119
CREATED:20260208T201429Z
LAST-MODIFIED:20260208T201429Z
UID:9915-1781780400-1781802900@carobahn.de
SUMMARY:Linienfahrt 18. Juni 2026
DESCRIPTION:Wir bringen Sie bequem zu den Sehenswürdigkeiten und zum Strand! Tageskarten sind nicht übertragbare Karten
URL:https://carobahn.de/event/linienfahrt-18-juni-2026/
CATEGORIES:Linienfahrt
ATTACH;FMTTYPE=image/jpeg:https://carobahn.de/wp-content/uploads/2025/02/Carobahn-13.4.22-22-scaled-m2mqOE.tmp_.jpg
END:VEVENT
BEGIN:VEVENT
DTSTART;TZID=Europe/Berlin:20260619T110000
DTEND;TZID=Europe/Berlin:20260619T171500
DTSTAMP:20260422T071119
CREATED:20260208T201430Z
LAST-MODIFIED:20260208T201430Z
UID:9916-1781866800-1781889300@carobahn.de
SUMMARY:Linienfahrt 19. Juni 2026
DESCRIPTION:Wir bringen Sie bequem zu den Sehenswürdigkeiten und zum Strand! Tageskarten sind nicht übertragbare Karten
URL:https://carobahn.de/event/linienfahrt-19-juni-2026/
CATEGORIES:Linienfahrt
ATTACH;FMTTYPE=image/jpeg:https://carobahn.de/wp-content/uploads/2025/02/Carobahn-13.4.22-22-scaled-m2mqOE.tmp_.jpg
END:VEVENT
BEGIN:VEVENT
DTSTART;TZID=Europe/Berlin:20260619T173000
DTEND;TZID=Europe/Berlin:20260619T184500
DTSTAMP:20260422T071119
CREATED:20260208T205634Z
LAST-MODIFIED:20260208T205634Z
UID:10198-1781890200-1781894700@carobahn.de
SUMMARY:Öffentliche Rundfahrt 19. Juni 2026
DESCRIPTION:Gästeführer Carsten fährt mit Ihnen durch Carolinensiel und erzählt die Geschichte des Sielortes.
URL:https://carobahn.de/event/oeffentliche-rundfahrt-19-juni-2026/
LOCATION:Haltestelle Feuerwehr\, Neue Str. 4\, Wittmund\, 26409
CATEGORIES:Öffentliche Rundfahrt
ATTACH;FMTTYPE=image/jpeg:https://carobahn.de/wp-content/uploads/2025/02/Carobahn-13.4.22-4-scaled-xV9waX.tmp_.jpg
END:VEVENT
BEGIN:VEVENT
DTSTART;TZID=Europe/Berlin:20260620T110000
DTEND;TZID=Europe/Berlin:20260620T171500
DTSTAMP:20260422T071119
CREATED:20260208T201443Z
LAST-MODIFIED:20260208T201443Z
UID:9917-1781953200-1781975700@carobahn.de
SUMMARY:Linienfahrt 20. Juni 2026
DESCRIPTION:Wir bringen Sie bequem zu den Sehenswürdigkeiten und zum Strand! Tageskarten sind nicht übertragbare Karten
URL:https://carobahn.de/event/linienfahrt-20-juni-2026/
CATEGORIES:Linienfahrt
ATTACH;FMTTYPE=image/jpeg:https://carobahn.de/wp-content/uploads/2025/02/Carobahn-13.4.22-22-scaled-m2mqOE.tmp_.jpg
END:VEVENT
BEGIN:VEVENT
DTSTART;TZID=Europe/Berlin:20260621T110000
DTEND;TZID=Europe/Berlin:20260621T171500
DTSTAMP:20260422T071119
CREATED:20260208T201445Z
LAST-MODIFIED:20260208T201445Z
UID:9918-1782039600-1782062100@carobahn.de
SUMMARY:Linienfahrt 21. Juni 2026
DESCRIPTION:Wir bringen Sie bequem zu den Sehenswürdigkeiten und zum Strand! Tageskarten sind nicht übertragbare Karten
URL:https://carobahn.de/event/linienfahrt-21-juni-2026/
CATEGORIES:Linienfahrt
ATTACH;FMTTYPE=image/jpeg:https://carobahn.de/wp-content/uploads/2025/02/Carobahn-13.4.22-22-scaled-m2mqOE.tmp_.jpg
END:VEVENT
BEGIN:VEVENT
DTSTART;TZID=Europe/Berlin:20260622T110000
DTEND;TZID=Europe/Berlin:20260622T171500
DTSTAMP:20260422T071119
CREATED:20260208T201446Z
LAST-MODIFIED:20260208T201446Z
UID:9919-1782126000-1782148500@carobahn.de
SUMMARY:Linienfahrt 22. Juni 2026
DESCRIPTION:Wir bringen Sie bequem zu den Sehenswürdigkeiten und zum Strand! Tageskarten sind nicht übertragbare Karten
URL:https://carobahn.de/event/linienfahrt-22-juni-2026/
CATEGORIES:Linienfahrt
ATTACH;FMTTYPE=image/jpeg:https://carobahn.de/wp-content/uploads/2025/02/Carobahn-13.4.22-22-scaled-m2mqOE.tmp_.jpg
END:VEVENT
BEGIN:VEVENT
DTSTART;TZID=Europe/Berlin:20260622T173000
DTEND;TZID=Europe/Berlin:20260622T184500
DTSTAMP:20260422T071119
CREATED:20260208T205854Z
LAST-MODIFIED:20260208T205854Z
UID:10216-1782149400-1782153900@carobahn.de
SUMMARY:Öffentliche Rundfahrt 22. Juni 2026
DESCRIPTION:Gästeführer Carsten fährt mit Ihnen durch Carolinensiel und erzählt die Geschichte des Sielortes.
URL:https://carobahn.de/event/oeffentliche-rundfahrt-22-juni-2026/
LOCATION:Haltestelle Feuerwehr\, Neue Str. 4\, Wittmund\, 26409
CATEGORIES:Öffentliche Rundfahrt
ATTACH;FMTTYPE=image/jpeg:https://carobahn.de/wp-content/uploads/2025/02/Carobahn-13.4.22-4-scaled-xV9waX.tmp_.jpg
END:VEVENT
BEGIN:VEVENT
DTSTART;TZID=Europe/Berlin:20260623T110000
DTEND;TZID=Europe/Berlin:20260623T171500
DTSTAMP:20260422T071119
CREATED:20260208T201447Z
LAST-MODIFIED:20260208T201447Z
UID:9920-1782212400-1782234900@carobahn.de
SUMMARY:Linienfahrt 23. Juni 2026
DESCRIPTION:Wir bringen Sie bequem zu den Sehenswürdigkeiten und zum Strand! Tageskarten sind nicht übertragbare Karten
URL:https://carobahn.de/event/linienfahrt-23-juni-2026/
CATEGORIES:Linienfahrt
ATTACH;FMTTYPE=image/jpeg:https://carobahn.de/wp-content/uploads/2025/02/Carobahn-13.4.22-22-scaled-m2mqOE.tmp_.jpg
END:VEVENT
BEGIN:VEVENT
DTSTART;TZID=Europe/Berlin:20260624T110000
DTEND;TZID=Europe/Berlin:20260624T171500
DTSTAMP:20260422T071119
CREATED:20260208T201449Z
LAST-MODIFIED:20260208T201449Z
UID:9921-1782298800-1782321300@carobahn.de
SUMMARY:Linienfahrt 24. Juni 2026
DESCRIPTION:Wir bringen Sie bequem zu den Sehenswürdigkeiten und zum Strand! Tageskarten sind nicht übertragbare Karten
URL:https://carobahn.de/event/linienfahrt-24-juni-2026/
CATEGORIES:Linienfahrt
ATTACH;FMTTYPE=image/jpeg:https://carobahn.de/wp-content/uploads/2025/02/Carobahn-13.4.22-22-scaled-m2mqOE.tmp_.jpg
END:VEVENT
BEGIN:VEVENT
DTSTART;TZID=Europe/Berlin:20260625T110000
DTEND;TZID=Europe/Berlin:20260625T171500
DTSTAMP:20260422T071119
CREATED:20260208T201459Z
LAST-MODIFIED:20260208T201459Z
UID:9922-1782385200-1782407700@carobahn.de
SUMMARY:Linienfahrt 25. Juni 2026
DESCRIPTION:Wir bringen Sie bequem zu den Sehenswürdigkeiten und zum Strand! Tageskarten sind nicht übertragbare Karten
URL:https://carobahn.de/event/linienfahrt-25-juni-2026/
CATEGORIES:Linienfahrt
ATTACH;FMTTYPE=image/jpeg:https://carobahn.de/wp-content/uploads/2025/02/Carobahn-13.4.22-22-scaled-m2mqOE.tmp_.jpg
END:VEVENT
BEGIN:VEVENT
DTSTART;TZID=Europe/Berlin:20260626T110000
DTEND;TZID=Europe/Berlin:20260626T171500
DTSTAMP:20260422T071119
CREATED:20260208T201500Z
LAST-MODIFIED:20260208T201500Z
UID:9923-1782471600-1782494100@carobahn.de
SUMMARY:Linienfahrt 26. Juni 2026
DESCRIPTION:Wir bringen Sie bequem zu den Sehenswürdigkeiten und zum Strand! Tageskarten sind nicht übertragbare Karten
URL:https://carobahn.de/event/linienfahrt-26-juni-2026/
CATEGORIES:Linienfahrt
ATTACH;FMTTYPE=image/jpeg:https://carobahn.de/wp-content/uploads/2025/02/Carobahn-13.4.22-22-scaled-m2mqOE.tmp_.jpg
END:VEVENT
BEGIN:VEVENT
DTSTART;TZID=Europe/Berlin:20260626T173000
DTEND;TZID=Europe/Berlin:20260626T184500
DTSTAMP:20260422T071119
CREATED:20260208T205635Z
LAST-MODIFIED:20260208T205635Z
UID:10199-1782495000-1782499500@carobahn.de
SUMMARY:Öffentliche Rundfahrt 26. Juni 2026
DESCRIPTION:Gästeführer Carsten fährt mit Ihnen durch Carolinensiel und erzählt die Geschichte des Sielortes.
URL:https://carobahn.de/event/oeffentliche-rundfahrt-26-juni-2026/
LOCATION:Haltestelle Feuerwehr\, Neue Str. 4\, Wittmund\, 26409
CATEGORIES:Öffentliche Rundfahrt
ATTACH;FMTTYPE=image/jpeg:https://carobahn.de/wp-content/uploads/2025/02/Carobahn-13.4.22-4-scaled-xV9waX.tmp_.jpg
END:VEVENT
BEGIN:VEVENT
DTSTART;TZID=Europe/Berlin:20260627T110000
DTEND;TZID=Europe/Berlin:20260627T171500
DTSTAMP:20260422T071119
CREATED:20260208T201501Z
LAST-MODIFIED:20260208T201501Z
UID:9924-1782558000-1782580500@carobahn.de
SUMMARY:Linienfahrt 27. Juni 2026
DESCRIPTION:Wir bringen Sie bequem zu den Sehenswürdigkeiten und zum Strand! Tageskarten sind nicht übertragbare Karten
URL:https://carobahn.de/event/linienfahrt-27-juni-2026/
CATEGORIES:Linienfahrt
ATTACH;FMTTYPE=image/jpeg:https://carobahn.de/wp-content/uploads/2025/02/Carobahn-13.4.22-22-scaled-m2mqOE.tmp_.jpg
END:VEVENT
BEGIN:VEVENT
DTSTART;TZID=Europe/Berlin:20260628T110000
DTEND;TZID=Europe/Berlin:20260628T171500
DTSTAMP:20260422T071119
CREATED:20260208T201505Z
LAST-MODIFIED:20260208T201505Z
UID:9925-1782644400-1782666900@carobahn.de
SUMMARY:Linienfahrt 28. Juni 2026
DESCRIPTION:Wir bringen Sie bequem zu den Sehenswürdigkeiten und zum Strand! Tageskarten sind nicht übertragbare Karten
URL:https://carobahn.de/event/linienfahrt-28-juni-2026/
CATEGORIES:Linienfahrt
ATTACH;FMTTYPE=image/jpeg:https://carobahn.de/wp-content/uploads/2025/02/Carobahn-13.4.22-22-scaled-m2mqOE.tmp_.jpg
END:VEVENT
BEGIN:VEVENT
DTSTART;TZID=Europe/Berlin:20260629T110000
DTEND;TZID=Europe/Berlin:20260629T171500
DTSTAMP:20260422T071119
CREATED:20260208T201506Z
LAST-MODIFIED:20260208T201506Z
UID:9926-1782730800-1782753300@carobahn.de
SUMMARY:Linienfahrt 29. Juni 2026
DESCRIPTION:Wir bringen Sie bequem zu den Sehenswürdigkeiten und zum Strand! Tageskarten sind nicht übertragbare Karten
URL:https://carobahn.de/event/linienfahrt-29-juni-2026/
CATEGORIES:Linienfahrt
ATTACH;FMTTYPE=image/jpeg:https://carobahn.de/wp-content/uploads/2025/02/Carobahn-13.4.22-22-scaled-m2mqOE.tmp_.jpg
END:VEVENT
BEGIN:VEVENT
DTSTART;TZID=Europe/Berlin:20260629T173000
DTEND;TZID=Europe/Berlin:20260629T184500
DTSTAMP:20260422T071119
CREATED:20260208T205855Z
LAST-MODIFIED:20260208T205855Z
UID:10217-1782754200-1782758700@carobahn.de
SUMMARY:Öffentliche Rundfahrt 29. Juni 2026
DESCRIPTION:Gästeführer Carsten fährt mit Ihnen durch Carolinensiel und erzählt die Geschichte des Sielortes.
URL:https://carobahn.de/event/oeffentliche-rundfahrt-29-juni-2026/
LOCATION:Haltestelle Feuerwehr\, Neue Str. 4\, Wittmund\, 26409
CATEGORIES:Öffentliche Rundfahrt
ATTACH;FMTTYPE=image/jpeg:https://carobahn.de/wp-content/uploads/2025/02/Carobahn-13.4.22-4-scaled-xV9waX.tmp_.jpg
END:VEVENT
BEGIN:VEVENT
DTSTART;TZID=Europe/Berlin:20260630T110000
DTEND;TZID=Europe/Berlin:20260630T171500
DTSTAMP:20260422T071119
CREATED:20260208T201513Z
LAST-MODIFIED:20260208T201513Z
UID:9927-1782817200-1782839700@carobahn.de
SUMMARY:Linienfahrt 30. Juni 2026
DESCRIPTION:Wir bringen Sie bequem zu den Sehenswürdigkeiten und zum Strand! Tageskarten sind nicht übertragbare Karten
URL:https://carobahn.de/event/linienfahrt-30-juni-2026/
CATEGORIES:Linienfahrt
ATTACH;FMTTYPE=image/jpeg:https://carobahn.de/wp-content/uploads/2025/02/Carobahn-13.4.22-22-scaled-m2mqOE.tmp_.jpg
END:VEVENT
BEGIN:VEVENT
DTSTART;TZID=Europe/Berlin:20260701T110000
DTEND;TZID=Europe/Berlin:20260701T171500
DTSTAMP:20260422T071119
CREATED:20260208T201515Z
LAST-MODIFIED:20260208T201515Z
UID:9928-1782903600-1782926100@carobahn.de
SUMMARY:Linienfahrt 01. Juli 2026
DESCRIPTION:Wir bringen Sie bequem zu den Sehenswürdigkeiten und zum Strand! Tageskarten sind nicht übertragbare Karten
URL:https://carobahn.de/event/linienfahrt-01-juli-2026/
CATEGORIES:Linienfahrt
ATTACH;FMTTYPE=image/jpeg:https://carobahn.de/wp-content/uploads/2025/02/Carobahn-13.4.22-22-scaled-m2mqOE.tmp_.jpg
END:VEVENT
BEGIN:VEVENT
DTSTART;TZID=Europe/Berlin:20260702T110000
DTEND;TZID=Europe/Berlin:20260702T171500
DTSTAMP:20260422T071119
CREATED:20260208T201516Z
LAST-MODIFIED:20260208T201516Z
UID:9929-1782990000-1783012500@carobahn.de
SUMMARY:Linienfahrt 02. Juli 2026
DESCRIPTION:Wir bringen Sie bequem zu den Sehenswürdigkeiten und zum Strand! Tageskarten sind nicht übertragbare Karten
URL:https://carobahn.de/event/linienfahrt-02-juli-2026/
CATEGORIES:Linienfahrt
ATTACH;FMTTYPE=image/jpeg:https://carobahn.de/wp-content/uploads/2025/02/Carobahn-13.4.22-22-scaled-m2mqOE.tmp_.jpg
END:VEVENT
BEGIN:VEVENT
DTSTART;TZID=Europe/Berlin:20260703T110000
DTEND;TZID=Europe/Berlin:20260703T171500
DTSTAMP:20260422T071119
CREATED:20260208T201518Z
LAST-MODIFIED:20260208T201518Z
UID:9930-1783076400-1783098900@carobahn.de
SUMMARY:Linienfahrt 03. Juli 2026
DESCRIPTION:Wir bringen Sie bequem zu den Sehenswürdigkeiten und zum Strand! Tageskarten sind nicht übertragbare Karten
URL:https://carobahn.de/event/linienfahrt-03-juli-2026/
CATEGORIES:Linienfahrt
ATTACH;FMTTYPE=image/jpeg:https://carobahn.de/wp-content/uploads/2025/02/Carobahn-13.4.22-22-scaled-m2mqOE.tmp_.jpg
END:VEVENT
BEGIN:VEVENT
DTSTART;TZID=Europe/Berlin:20260703T173000
DTEND;TZID=Europe/Berlin:20260703T184500
DTSTAMP:20260422T071119
CREATED:20260208T205637Z
LAST-MODIFIED:20260208T205637Z
UID:10200-1783099800-1783104300@carobahn.de
SUMMARY:Öffentliche Rundfahrt 03. Juli 2026
DESCRIPTION:Gästeführer Carsten fährt mit Ihnen durch Carolinensiel und erzählt die Geschichte des Sielortes.
URL:https://carobahn.de/event/oeffentliche-rundfahrt-03-juli-2026/
LOCATION:Haltestelle Feuerwehr\, Neue Str. 4\, Wittmund\, 26409
CATEGORIES:Öffentliche Rundfahrt
ATTACH;FMTTYPE=image/jpeg:https://carobahn.de/wp-content/uploads/2025/02/Carobahn-13.4.22-4-scaled-xV9waX.tmp_.jpg
END:VEVENT
BEGIN:VEVENT
DTSTART;TZID=Europe/Berlin:20260704T110000
DTEND;TZID=Europe/Berlin:20260704T171500
DTSTAMP:20260422T071119
CREATED:20260208T201519Z
LAST-MODIFIED:20260208T201519Z
UID:9931-1783162800-1783185300@carobahn.de
SUMMARY:Linienfahrt 04. Juli 2026
DESCRIPTION:Wir bringen Sie bequem zu den Sehenswürdigkeiten und zum Strand! Tageskarten sind nicht übertragbare Karten
URL:https://carobahn.de/event/linienfahrt-04-juli-2026/
CATEGORIES:Linienfahrt
ATTACH;FMTTYPE=image/jpeg:https://carobahn.de/wp-content/uploads/2025/02/Carobahn-13.4.22-22-scaled-m2mqOE.tmp_.jpg
END:VEVENT
BEGIN:VEVENT
DTSTART;TZID=Europe/Berlin:20260705T110000
DTEND;TZID=Europe/Berlin:20260705T171500
DTSTAMP:20260422T071119
CREATED:20260208T201523Z
LAST-MODIFIED:20260208T201523Z
UID:9932-1783249200-1783271700@carobahn.de
SUMMARY:Linienfahrt 05. Juli 2026
DESCRIPTION:Wir bringen Sie bequem zu den Sehenswürdigkeiten und zum Strand! Tageskarten sind nicht übertragbare Karten
URL:https://carobahn.de/event/linienfahrt-05-juli-2026/
CATEGORIES:Linienfahrt
ATTACH;FMTTYPE=image/jpeg:https://carobahn.de/wp-content/uploads/2025/02/Carobahn-13.4.22-22-scaled-m2mqOE.tmp_.jpg
END:VEVENT
END:VCALENDAR