BEGIN:VCALENDAR
VERSION:2.0
PRODID:-//Carobahn - ECPv6.15.20//NONSGML v1.0//EN
CALSCALE:GREGORIAN
METHOD:PUBLISH
X-WR-CALNAME:Carobahn
X-ORIGINAL-URL:https://carobahn.de
X-WR-CALDESC:Veranstaltungen für Carobahn
REFRESH-INTERVAL;VALUE=DURATION:PT1H
X-Robots-Tag:noindex
X-PUBLISHED-TTL:PT1H
BEGIN:VTIMEZONE
TZID:Europe/Berlin
BEGIN:DAYLIGHT
TZOFFSETFROM:+0100
TZOFFSETTO:+0200
TZNAME:CEST
DTSTART:20240331T010000
END:DAYLIGHT
BEGIN:STANDARD
TZOFFSETFROM:+0200
TZOFFSETTO:+0100
TZNAME:CET
DTSTART:20241027T010000
END:STANDARD
BEGIN:DAYLIGHT
TZOFFSETFROM:+0100
TZOFFSETTO:+0200
TZNAME:CEST
DTSTART:20250330T010000
END:DAYLIGHT
BEGIN:STANDARD
TZOFFSETFROM:+0200
TZOFFSETTO:+0100
TZNAME:CET
DTSTART:20251026T010000
END:STANDARD
BEGIN:DAYLIGHT
TZOFFSETFROM:+0100
TZOFFSETTO:+0200
TZNAME:CEST
DTSTART:20260329T010000
END:DAYLIGHT
BEGIN:STANDARD
TZOFFSETFROM:+0200
TZOFFSETTO:+0100
TZNAME:CET
DTSTART:20261025T010000
END:STANDARD
END:VTIMEZONE
BEGIN:VEVENT
DTSTART;TZID=Europe/Berlin:20250901T110000
DTEND;TZID=Europe/Berlin:20250901T171500
DTSTAMP:20260422T142708
CREATED:20250214T101806Z
LAST-MODIFIED:20250214T120204Z
UID:7110-1756724400-1756746900@carobahn.de
SUMMARY:Linienfahrt 01. September 2025
DESCRIPTION:Wir bringen Sie bequem zu den Sehenswürdigkeiten und zum Strand! Tageskarten sind nicht übertragbare Karten
URL:https://carobahn.de/event/linienfahrt-01-september-2025/
CATEGORIES:Linienfahrt
ATTACH;FMTTYPE=image/jpeg:https://carobahn.de/wp-content/uploads/2025/02/Carobahn-13.4.22-22-scaled-m2mqOE.tmp_.jpg
END:VEVENT
BEGIN:VEVENT
DTSTART;TZID=Europe/Berlin:20250901T174500
DTEND;TZID=Europe/Berlin:20250901T184500
DTSTAMP:20260422T142708
CREATED:20250602T204708Z
LAST-MODIFIED:20250602T204708Z
UID:9222-1756748700-1756752300@carobahn.de
SUMMARY:Öffentliche Rundfahrt 01. September 2025
DESCRIPTION:Bereits 1730 gründete Georg Albrecht von Ostfriesland den Sielort Carolinensiel und erfreute vermutlich seine Gemahlin Sophie Caroline mit der Namensgebung. Bei unserer Rundfahrt erzählt der Gästeführer Karsten alles Wichtige\, was seitdem passiert ist. Von der ehemalige Harlebucht bis zum heutigen Zentrum des niedersächsischen Tourismus – die Geschichte Carolinensiels ist spannend und sehr interessant. \nMindestteilnehmerzahl: 5 Personen
URL:https://carobahn.de/event/oeffentliche-rundfahrt-01-september-2025/
LOCATION:Feuerwehr\, Neue Straße 4\, Wittmund\, Niedersachsen\, 26409\, Germany
CATEGORIES:Öffentliche Rundfahrt
ORGANIZER;CN="CARObahn c/o M%C3%BCnsteraner Stadtrundfahrten GmbH":MAILTO:info@carobahn.de
END:VEVENT
BEGIN:VEVENT
DTSTART;TZID=Europe/Berlin:20250902T110000
DTEND;TZID=Europe/Berlin:20250902T171500
DTSTAMP:20260422T142708
CREATED:20250214T101807Z
LAST-MODIFIED:20250214T120206Z
UID:7111-1756810800-1756833300@carobahn.de
SUMMARY:Linienfahrt 02. September 2025
DESCRIPTION:Wir bringen Sie bequem zu den Sehenswürdigkeiten und zum Strand! Tageskarten sind nicht übertragbare Karten
URL:https://carobahn.de/event/linienfahrt-02-september-2025/
CATEGORIES:Linienfahrt
ATTACH;FMTTYPE=image/jpeg:https://carobahn.de/wp-content/uploads/2025/02/Carobahn-13.4.22-22-scaled-m2mqOE.tmp_.jpg
END:VEVENT
BEGIN:VEVENT
DTSTART;TZID=Europe/Berlin:20250903T110000
DTEND;TZID=Europe/Berlin:20250903T171500
DTSTAMP:20260422T142708
CREATED:20250214T101810Z
LAST-MODIFIED:20250214T120346Z
UID:7112-1756897200-1756919700@carobahn.de
SUMMARY:Linienfahrt 03. September 2025
DESCRIPTION:Wir bringen Sie bequem zu den Sehenswürdigkeiten und zum Strand! Tageskarten sind nicht übertragbare Karten
URL:https://carobahn.de/event/linienfahrt-03-september-2025/
CATEGORIES:Linienfahrt
ATTACH;FMTTYPE=image/jpeg:https://carobahn.de/wp-content/uploads/2025/02/Carobahn-13.4.22-22-scaled-m2mqOE.tmp_.jpg
END:VEVENT
BEGIN:VEVENT
DTSTART;TZID=Europe/Berlin:20250904T110000
DTEND;TZID=Europe/Berlin:20250904T171500
DTSTAMP:20260422T142708
CREATED:20250214T101812Z
LAST-MODIFIED:20250214T120347Z
UID:7113-1756983600-1757006100@carobahn.de
SUMMARY:Linienfahrt 04. September 2025
DESCRIPTION:Wir bringen Sie bequem zu den Sehenswürdigkeiten und zum Strand! Tageskarten sind nicht übertragbare Karten
URL:https://carobahn.de/event/linienfahrt-04-september-2025/
CATEGORIES:Linienfahrt
ATTACH;FMTTYPE=image/jpeg:https://carobahn.de/wp-content/uploads/2025/02/Carobahn-13.4.22-22-scaled-m2mqOE.tmp_.jpg
END:VEVENT
BEGIN:VEVENT
DTSTART;TZID=Europe/Berlin:20250905T110000
DTEND;TZID=Europe/Berlin:20250905T171500
DTSTAMP:20260422T142708
CREATED:20250214T101813Z
LAST-MODIFIED:20250214T120349Z
UID:7114-1757070000-1757092500@carobahn.de
SUMMARY:Linienfahrt 05. September 2025
DESCRIPTION:Wir bringen Sie bequem zu den Sehenswürdigkeiten und zum Strand! Tageskarten sind nicht übertragbare Karten
URL:https://carobahn.de/event/linienfahrt-05-september-2025/
CATEGORIES:Linienfahrt
ATTACH;FMTTYPE=image/jpeg:https://carobahn.de/wp-content/uploads/2025/02/Carobahn-13.4.22-22-scaled-m2mqOE.tmp_.jpg
END:VEVENT
BEGIN:VEVENT
DTSTART;TZID=Europe/Berlin:20250905T173000
DTEND;TZID=Europe/Berlin:20250905T184500
DTSTAMP:20260422T142708
CREATED:20250214T130532Z
LAST-MODIFIED:20250214T130532Z
UID:8877-1757093400-1757097900@carobahn.de
SUMMARY:Öffentliche Rundfahrt 05. September 2025
DESCRIPTION:Gästeführer Carsten fährt mit Ihnen durch Carolinensiel und erzählt die Geschichte des Sielortes.
URL:https://carobahn.de/event/oeffentliche-rundfahrt-05-september-2025/
LOCATION:Friedrichsschleuse\, Friedrichsschleuse 11\, Wittmund\, Niedersachsen\, 26409\, Germany
CATEGORIES:Öffentliche Rundfahrt
ATTACH;FMTTYPE=image/jpeg:https://carobahn.de/wp-content/uploads/2025/02/Carobahn-13.4.22-4-scaled-xV9waX.tmp_.jpg
END:VEVENT
BEGIN:VEVENT
DTSTART;TZID=Europe/Berlin:20250906T110000
DTEND;TZID=Europe/Berlin:20250906T171500
DTSTAMP:20260422T142708
CREATED:20250214T101815Z
LAST-MODIFIED:20250214T120350Z
UID:7115-1757156400-1757178900@carobahn.de
SUMMARY:Linienfahrt 06. September 2025
DESCRIPTION:Wir bringen Sie bequem zu den Sehenswürdigkeiten und zum Strand! Tageskarten sind nicht übertragbare Karten
URL:https://carobahn.de/event/linienfahrt-06-september-2025/
CATEGORIES:Linienfahrt
ATTACH;FMTTYPE=image/jpeg:https://carobahn.de/wp-content/uploads/2025/02/Carobahn-13.4.22-22-scaled-m2mqOE.tmp_.jpg
END:VEVENT
BEGIN:VEVENT
DTSTART;TZID=Europe/Berlin:20250907T110000
DTEND;TZID=Europe/Berlin:20250907T171500
DTSTAMP:20260422T142708
CREATED:20250214T101816Z
LAST-MODIFIED:20250214T120351Z
UID:7116-1757242800-1757265300@carobahn.de
SUMMARY:Linienfahrt 07. September 2025
DESCRIPTION:Wir bringen Sie bequem zu den Sehenswürdigkeiten und zum Strand! Tageskarten sind nicht übertragbare Karten
URL:https://carobahn.de/event/linienfahrt-07-september-2025/
CATEGORIES:Linienfahrt
ATTACH;FMTTYPE=image/jpeg:https://carobahn.de/wp-content/uploads/2025/02/Carobahn-13.4.22-22-scaled-m2mqOE.tmp_.jpg
END:VEVENT
BEGIN:VEVENT
DTSTART;TZID=Europe/Berlin:20250908T110000
DTEND;TZID=Europe/Berlin:20250908T171500
DTSTAMP:20260422T142708
CREATED:20250214T101826Z
LAST-MODIFIED:20250214T120402Z
UID:7117-1757329200-1757351700@carobahn.de
SUMMARY:Linienfahrt 08. September 2025
DESCRIPTION:Wir bringen Sie bequem zu den Sehenswürdigkeiten und zum Strand! Tageskarten sind nicht übertragbare Karten
URL:https://carobahn.de/event/linienfahrt-08-september-2025/
CATEGORIES:Linienfahrt
ATTACH;FMTTYPE=image/jpeg:https://carobahn.de/wp-content/uploads/2025/02/Carobahn-13.4.22-22-scaled-m2mqOE.tmp_.jpg
END:VEVENT
BEGIN:VEVENT
DTSTART;TZID=Europe/Berlin:20250908T174500
DTEND;TZID=Europe/Berlin:20250908T184500
DTSTAMP:20260422T142708
CREATED:20250602T204950Z
LAST-MODIFIED:20250602T204950Z
UID:9226-1757353500-1757357100@carobahn.de
SUMMARY:Öffentliche Rundfahrt 08. September 2025
DESCRIPTION:Bereits 1730 gründete Georg Albrecht von Ostfriesland den Sielort Carolinensiel und erfreute vermutlich seine Gemahlin Sophie Caroline mit der Namensgebung. Bei unserer Rundfahrt erzählt der Gästeführer Karsten alles Wichtige\, was seitdem passiert ist. Von der ehemalige Harlebucht bis zum heutigen Zentrum des niedersächsischen Tourismus – die Geschichte Carolinensiels ist spannend und sehr interessant. \nMindestteilnehmerzahl: 5 Personen
URL:https://carobahn.de/event/oeffentliche-rundfahrt-08-september-2025/
LOCATION:Feuerwehr\, Neue Straße 4\, Wittmund\, Niedersachsen\, 26409\, Germany
CATEGORIES:Öffentliche Rundfahrt
ORGANIZER;CN="CARObahn c/o M%C3%BCnsteraner Stadtrundfahrten GmbH":MAILTO:info@carobahn.de
END:VEVENT
BEGIN:VEVENT
DTSTART;TZID=Europe/Berlin:20250909T110000
DTEND;TZID=Europe/Berlin:20250909T171500
DTSTAMP:20260422T142708
CREATED:20250214T101828Z
LAST-MODIFIED:20250214T120403Z
UID:7118-1757415600-1757438100@carobahn.de
SUMMARY:Linienfahrt 09. September 2025
DESCRIPTION:Wir bringen Sie bequem zu den Sehenswürdigkeiten und zum Strand! Tageskarten sind nicht übertragbare Karten
URL:https://carobahn.de/event/linienfahrt-09-september-2025/
CATEGORIES:Linienfahrt
ATTACH;FMTTYPE=image/jpeg:https://carobahn.de/wp-content/uploads/2025/02/Carobahn-13.4.22-22-scaled-m2mqOE.tmp_.jpg
END:VEVENT
BEGIN:VEVENT
DTSTART;TZID=Europe/Berlin:20250910T110000
DTEND;TZID=Europe/Berlin:20250910T171500
DTSTAMP:20260422T142708
CREATED:20250214T101829Z
LAST-MODIFIED:20250214T120404Z
UID:7119-1757502000-1757524500@carobahn.de
SUMMARY:Linienfahrt 10. September 2025
DESCRIPTION:Wir bringen Sie bequem zu den Sehenswürdigkeiten und zum Strand! Tageskarten sind nicht übertragbare Karten
URL:https://carobahn.de/event/linienfahrt-10-september-2025/
CATEGORIES:Linienfahrt
ATTACH;FMTTYPE=image/jpeg:https://carobahn.de/wp-content/uploads/2025/02/Carobahn-13.4.22-22-scaled-m2mqOE.tmp_.jpg
END:VEVENT
BEGIN:VEVENT
DTSTART;TZID=Europe/Berlin:20250911T110000
DTEND;TZID=Europe/Berlin:20250911T171500
DTSTAMP:20260422T142708
CREATED:20250214T101830Z
LAST-MODIFIED:20250214T120406Z
UID:7120-1757588400-1757610900@carobahn.de
SUMMARY:Linienfahrt 11. September 2025
DESCRIPTION:Wir bringen Sie bequem zu den Sehenswürdigkeiten und zum Strand! Tageskarten sind nicht übertragbare Karten
URL:https://carobahn.de/event/linienfahrt-11-september-2025/
CATEGORIES:Linienfahrt
ATTACH;FMTTYPE=image/jpeg:https://carobahn.de/wp-content/uploads/2025/02/Carobahn-13.4.22-22-scaled-m2mqOE.tmp_.jpg
END:VEVENT
BEGIN:VEVENT
DTSTART;TZID=Europe/Berlin:20250912T110000
DTEND;TZID=Europe/Berlin:20250912T171500
DTSTAMP:20260422T142708
CREATED:20250214T101832Z
LAST-MODIFIED:20250214T120407Z
UID:7121-1757674800-1757697300@carobahn.de
SUMMARY:Linienfahrt 12. September 2025
DESCRIPTION:Wir bringen Sie bequem zu den Sehenswürdigkeiten und zum Strand! Tageskarten sind nicht übertragbare Karten
URL:https://carobahn.de/event/linienfahrt-12-september-2025/
CATEGORIES:Linienfahrt
ATTACH;FMTTYPE=image/jpeg:https://carobahn.de/wp-content/uploads/2025/02/Carobahn-13.4.22-22-scaled-m2mqOE.tmp_.jpg
END:VEVENT
BEGIN:VEVENT
DTSTART;TZID=Europe/Berlin:20250912T173000
DTEND;TZID=Europe/Berlin:20250912T184500
DTSTAMP:20260422T142708
CREATED:20250214T130534Z
LAST-MODIFIED:20250214T130534Z
UID:8878-1757698200-1757702700@carobahn.de
SUMMARY:Öffentliche Rundfahrt 12. September 2025
DESCRIPTION:Gästeführer Carsten fährt mit Ihnen durch Carolinensiel und erzählt die Geschichte des Sielortes.
URL:https://carobahn.de/event/oeffentliche-rundfahrt-12-september-2025/
LOCATION:Friedrichsschleuse\, Friedrichsschleuse 11\, Wittmund\, Niedersachsen\, 26409\, Germany
CATEGORIES:Öffentliche Rundfahrt
ATTACH;FMTTYPE=image/jpeg:https://carobahn.de/wp-content/uploads/2025/02/Carobahn-13.4.22-4-scaled-xV9waX.tmp_.jpg
END:VEVENT
BEGIN:VEVENT
DTSTART;TZID=Europe/Berlin:20250913T110000
DTEND;TZID=Europe/Berlin:20250913T171500
DTSTAMP:20260422T142708
CREATED:20250214T101835Z
LAST-MODIFIED:20250214T120546Z
UID:7122-1757761200-1757783700@carobahn.de
SUMMARY:Linienfahrt 13. September 2025
DESCRIPTION:Wir bringen Sie bequem zu den Sehenswürdigkeiten und zum Strand! Tageskarten sind nicht übertragbare Karten
URL:https://carobahn.de/event/linienfahrt-13-september-2025/
CATEGORIES:Linienfahrt
ATTACH;FMTTYPE=image/jpeg:https://carobahn.de/wp-content/uploads/2025/02/Carobahn-13.4.22-22-scaled-m2mqOE.tmp_.jpg
END:VEVENT
BEGIN:VEVENT
DTSTART;TZID=Europe/Berlin:20250914T110000
DTEND;TZID=Europe/Berlin:20250914T171500
DTSTAMP:20260422T142708
CREATED:20250214T101836Z
LAST-MODIFIED:20250214T120547Z
UID:7123-1757847600-1757870100@carobahn.de
SUMMARY:Linienfahrt 14. September 2025
DESCRIPTION:Wir bringen Sie bequem zu den Sehenswürdigkeiten und zum Strand! Tageskarten sind nicht übertragbare Karten
URL:https://carobahn.de/event/linienfahrt-14-september-2025/
CATEGORIES:Linienfahrt
ATTACH;FMTTYPE=image/jpeg:https://carobahn.de/wp-content/uploads/2025/02/Carobahn-13.4.22-22-scaled-m2mqOE.tmp_.jpg
END:VEVENT
BEGIN:VEVENT
DTSTART;TZID=Europe/Berlin:20250915T110000
DTEND;TZID=Europe/Berlin:20250915T171500
DTSTAMP:20260422T142708
CREATED:20250214T101838Z
LAST-MODIFIED:20250214T120549Z
UID:7124-1757934000-1757956500@carobahn.de
SUMMARY:Linienfahrt 15. September 2025
DESCRIPTION:Wir bringen Sie bequem zu den Sehenswürdigkeiten und zum Strand! Tageskarten sind nicht übertragbare Karten
URL:https://carobahn.de/event/linienfahrt-15-september-2025/
CATEGORIES:Linienfahrt
ATTACH;FMTTYPE=image/jpeg:https://carobahn.de/wp-content/uploads/2025/02/Carobahn-13.4.22-22-scaled-m2mqOE.tmp_.jpg
END:VEVENT
BEGIN:VEVENT
DTSTART;TZID=Europe/Berlin:20250915T174500
DTEND;TZID=Europe/Berlin:20250915T184500
DTSTAMP:20260422T142708
CREATED:20250602T205220Z
LAST-MODIFIED:20250602T205220Z
UID:9230-1757958300-1757961900@carobahn.de
SUMMARY:Öffentliche Rundfahrt 15. September 2025
DESCRIPTION:Bereits 1730 gründete Georg Albrecht von Ostfriesland den Sielort Carolinensiel und erfreute vermutlich seine Gemahlin Sophie Caroline mit der Namensgebung. Bei unserer Rundfahrt erzählt der Gästeführer Karsten alles Wichtige\, was seitdem passiert ist. Von der ehemalige Harlebucht bis zum heutigen Zentrum des niedersächsischen Tourismus – die Geschichte Carolinensiels ist spannend und sehr interessant. \nMindestteilnehmerzahl: 5 Personen
URL:https://carobahn.de/event/oeffentliche-rundfahrt-15-september-2025/
LOCATION:Feuerwehr\, Neue Straße 4\, Wittmund\, Niedersachsen\, 26409\, Germany
CATEGORIES:Öffentliche Rundfahrt
ORGANIZER;CN="CARObahn c/o M%C3%BCnsteraner Stadtrundfahrten GmbH":MAILTO:info@carobahn.de
END:VEVENT
BEGIN:VEVENT
DTSTART;TZID=Europe/Berlin:20250916T110000
DTEND;TZID=Europe/Berlin:20250916T171500
DTSTAMP:20260422T142708
CREATED:20250214T101839Z
LAST-MODIFIED:20250214T120550Z
UID:7125-1758020400-1758042900@carobahn.de
SUMMARY:Linienfahrt 16. September 2025
DESCRIPTION:Wir bringen Sie bequem zu den Sehenswürdigkeiten und zum Strand! Tageskarten sind nicht übertragbare Karten
URL:https://carobahn.de/event/linienfahrt-16-september-2025/
CATEGORIES:Linienfahrt
ATTACH;FMTTYPE=image/jpeg:https://carobahn.de/wp-content/uploads/2025/02/Carobahn-13.4.22-22-scaled-m2mqOE.tmp_.jpg
END:VEVENT
BEGIN:VEVENT
DTSTART;TZID=Europe/Berlin:20250917T110000
DTEND;TZID=Europe/Berlin:20250917T171500
DTSTAMP:20260422T142708
CREATED:20250214T101841Z
LAST-MODIFIED:20250214T120551Z
UID:7126-1758106800-1758129300@carobahn.de
SUMMARY:Linienfahrt 17. September 2025
DESCRIPTION:Wir bringen Sie bequem zu den Sehenswürdigkeiten und zum Strand! Tageskarten sind nicht übertragbare Karten
URL:https://carobahn.de/event/linienfahrt-17-september-2025/
CATEGORIES:Linienfahrt
ATTACH;FMTTYPE=image/jpeg:https://carobahn.de/wp-content/uploads/2025/02/Carobahn-13.4.22-22-scaled-m2mqOE.tmp_.jpg
END:VEVENT
BEGIN:VEVENT
DTSTART;TZID=Europe/Berlin:20250918T110000
DTEND;TZID=Europe/Berlin:20250918T171500
DTSTAMP:20260422T142708
CREATED:20250214T101847Z
LAST-MODIFIED:20250214T120601Z
UID:7127-1758193200-1758215700@carobahn.de
SUMMARY:Linienfahrt 18. September 2025
DESCRIPTION:Wir bringen Sie bequem zu den Sehenswürdigkeiten und zum Strand! Tageskarten sind nicht übertragbare Karten
URL:https://carobahn.de/event/linienfahrt-18-september-2025/
CATEGORIES:Linienfahrt
ATTACH;FMTTYPE=image/jpeg:https://carobahn.de/wp-content/uploads/2025/02/Carobahn-13.4.22-22-scaled-m2mqOE.tmp_.jpg
END:VEVENT
BEGIN:VEVENT
DTSTART;TZID=Europe/Berlin:20250919T110000
DTEND;TZID=Europe/Berlin:20250919T171500
DTSTAMP:20260422T142708
CREATED:20250214T101849Z
LAST-MODIFIED:20250214T120603Z
UID:7128-1758279600-1758302100@carobahn.de
SUMMARY:Linienfahrt 19. September 2025
DESCRIPTION:Wir bringen Sie bequem zu den Sehenswürdigkeiten und zum Strand! Tageskarten sind nicht übertragbare Karten
URL:https://carobahn.de/event/linienfahrt-19-september-2025/
CATEGORIES:Linienfahrt
ATTACH;FMTTYPE=image/jpeg:https://carobahn.de/wp-content/uploads/2025/02/Carobahn-13.4.22-22-scaled-m2mqOE.tmp_.jpg
END:VEVENT
BEGIN:VEVENT
DTSTART;TZID=Europe/Berlin:20250919T173000
DTEND;TZID=Europe/Berlin:20250919T184500
DTSTAMP:20260422T142708
CREATED:20250214T130535Z
LAST-MODIFIED:20250214T130535Z
UID:8879-1758303000-1758307500@carobahn.de
SUMMARY:Öffentliche Rundfahrt 19. September 2025
DESCRIPTION:Gästeführer Carsten fährt mit Ihnen durch Carolinensiel und erzählt die Geschichte des Sielortes.
URL:https://carobahn.de/event/oeffentliche-rundfahrt-19-september-2025/
LOCATION:Friedrichsschleuse\, Friedrichsschleuse 11\, Wittmund\, Niedersachsen\, 26409\, Germany
CATEGORIES:Öffentliche Rundfahrt
ATTACH;FMTTYPE=image/jpeg:https://carobahn.de/wp-content/uploads/2025/02/Carobahn-13.4.22-4-scaled-xV9waX.tmp_.jpg
END:VEVENT
BEGIN:VEVENT
DTSTART;TZID=Europe/Berlin:20250920T110000
DTEND;TZID=Europe/Berlin:20250920T171500
DTSTAMP:20260422T142708
CREATED:20250214T101850Z
LAST-MODIFIED:20250214T120604Z
UID:7129-1758366000-1758388500@carobahn.de
SUMMARY:Linienfahrt 20. September 2025
DESCRIPTION:Wir bringen Sie bequem zu den Sehenswürdigkeiten und zum Strand! Tageskarten sind nicht übertragbare Karten
URL:https://carobahn.de/event/linienfahrt-20-september-2025/
CATEGORIES:Linienfahrt
ATTACH;FMTTYPE=image/jpeg:https://carobahn.de/wp-content/uploads/2025/02/Carobahn-13.4.22-22-scaled-m2mqOE.tmp_.jpg
END:VEVENT
BEGIN:VEVENT
DTSTART;TZID=Europe/Berlin:20250921T110000
DTEND;TZID=Europe/Berlin:20250921T171500
DTSTAMP:20260422T142708
CREATED:20250214T101851Z
LAST-MODIFIED:20250214T120605Z
UID:7130-1758452400-1758474900@carobahn.de
SUMMARY:Linienfahrt 21. September 2025
DESCRIPTION:Wir bringen Sie bequem zu den Sehenswürdigkeiten und zum Strand! Tageskarten sind nicht übertragbare Karten
URL:https://carobahn.de/event/linienfahrt-21-september-2025/
CATEGORIES:Linienfahrt
ATTACH;FMTTYPE=image/jpeg:https://carobahn.de/wp-content/uploads/2025/02/Carobahn-13.4.22-22-scaled-m2mqOE.tmp_.jpg
END:VEVENT
BEGIN:VEVENT
DTSTART;TZID=Europe/Berlin:20250922T110000
DTEND;TZID=Europe/Berlin:20250922T171500
DTSTAMP:20260422T142708
CREATED:20250214T101853Z
LAST-MODIFIED:20250214T120607Z
UID:7131-1758538800-1758561300@carobahn.de
SUMMARY:Linienfahrt 22. September 2025
DESCRIPTION:Wir bringen Sie bequem zu den Sehenswürdigkeiten und zum Strand! Tageskarten sind nicht übertragbare Karten
URL:https://carobahn.de/event/linienfahrt-22-september-2025/
CATEGORIES:Linienfahrt
ATTACH;FMTTYPE=image/jpeg:https://carobahn.de/wp-content/uploads/2025/02/Carobahn-13.4.22-22-scaled-m2mqOE.tmp_.jpg
END:VEVENT
BEGIN:VEVENT
DTSTART;TZID=Europe/Berlin:20250922T174500
DTEND;TZID=Europe/Berlin:20250922T184500
DTSTAMP:20260422T142708
CREATED:20250602T205448Z
LAST-MODIFIED:20250602T205448Z
UID:9234-1758563100-1758566700@carobahn.de
SUMMARY:Öffentliche Rundfahrt 22. September 2025
DESCRIPTION:Bereits 1730 gründete Georg Albrecht von Ostfriesland den Sielort Carolinensiel und erfreute vermutlich seine Gemahlin Sophie Caroline mit der Namensgebung. Bei unserer Rundfahrt erzählt der Gästeführer Karsten alles Wichtige\, was seitdem passiert ist. Von der ehemalige Harlebucht bis zum heutigen Zentrum des niedersächsischen Tourismus – die Geschichte Carolinensiels ist spannend und sehr interessant. \nMindestteilnehmerzahl: 5 Personen
URL:https://carobahn.de/event/oeffentliche-rundfahrt-22-september-2025/
LOCATION:Feuerwehr\, Neue Straße 4\, Wittmund\, Niedersachsen\, 26409\, Germany
CATEGORIES:Öffentliche Rundfahrt
ORGANIZER;CN="CARObahn c/o M%C3%BCnsteraner Stadtrundfahrten GmbH":MAILTO:info@carobahn.de
END:VEVENT
BEGIN:VEVENT
DTSTART;TZID=Europe/Berlin:20250923T110000
DTEND;TZID=Europe/Berlin:20250923T171500
DTSTAMP:20260422T142708
CREATED:20250214T101859Z
LAST-MODIFIED:20250214T120747Z
UID:7132-1758625200-1758647700@carobahn.de
SUMMARY:Linienfahrt 23. September 2025
DESCRIPTION:Wir bringen Sie bequem zu den Sehenswürdigkeiten und zum Strand! Tageskarten sind nicht übertragbare Karten
URL:https://carobahn.de/event/linienfahrt-23-september-2025/
CATEGORIES:Linienfahrt
ATTACH;FMTTYPE=image/jpeg:https://carobahn.de/wp-content/uploads/2025/02/Carobahn-13.4.22-22-scaled-m2mqOE.tmp_.jpg
END:VEVENT
END:VCALENDAR