BEGIN:VCALENDAR
VERSION:2.0
PRODID:-//Carobahn - ECPv6.15.20//NONSGML v1.0//EN
CALSCALE:GREGORIAN
METHOD:PUBLISH
X-ORIGINAL-URL:https://carobahn.de
X-WR-CALDESC:Veranstaltungen für Carobahn
REFRESH-INTERVAL;VALUE=DURATION:PT1H
X-Robots-Tag:noindex
X-PUBLISHED-TTL:PT1H
BEGIN:VTIMEZONE
TZID:Europe/Berlin
BEGIN:DAYLIGHT
TZOFFSETFROM:+0100
TZOFFSETTO:+0200
TZNAME:CEST
DTSTART:20250330T010000
END:DAYLIGHT
BEGIN:STANDARD
TZOFFSETFROM:+0200
TZOFFSETTO:+0100
TZNAME:CET
DTSTART:20251026T010000
END:STANDARD
BEGIN:DAYLIGHT
TZOFFSETFROM:+0100
TZOFFSETTO:+0200
TZNAME:CEST
DTSTART:20260329T010000
END:DAYLIGHT
BEGIN:STANDARD
TZOFFSETFROM:+0200
TZOFFSETTO:+0100
TZNAME:CET
DTSTART:20261025T010000
END:STANDARD
BEGIN:DAYLIGHT
TZOFFSETFROM:+0100
TZOFFSETTO:+0200
TZNAME:CEST
DTSTART:20270328T010000
END:DAYLIGHT
BEGIN:STANDARD
TZOFFSETFROM:+0200
TZOFFSETTO:+0100
TZNAME:CET
DTSTART:20271031T010000
END:STANDARD
END:VTIMEZONE
BEGIN:VEVENT
DTSTART;TZID=Europe/Berlin:20260901T110000
DTEND;TZID=Europe/Berlin:20260901T171500
DTSTAMP:20260423T123119
CREATED:20260208T201947Z
LAST-MODIFIED:20260208T201947Z
UID:9990-1788260400-1788282900@carobahn.de
SUMMARY:Linienfahrt 01. September 2026
DESCRIPTION:Wir bringen Sie bequem zu den Sehenswürdigkeiten und zum Strand! Tageskarten sind nicht übertragbare Karten
URL:https://carobahn.de/event/linienfahrt-01-september-2026/
CATEGORIES:Linienfahrt
ATTACH;FMTTYPE=image/jpeg:https://carobahn.de/wp-content/uploads/2025/02/Carobahn-13.4.22-22-scaled-m2mqOE.tmp_.jpg
END:VEVENT
BEGIN:VEVENT
DTSTART;TZID=Europe/Berlin:20260902T110000
DTEND;TZID=Europe/Berlin:20260902T171500
DTSTAMP:20260423T123119
CREATED:20260208T201949Z
LAST-MODIFIED:20260208T201949Z
UID:9991-1788346800-1788369300@carobahn.de
SUMMARY:Linienfahrt 02. September 2026
DESCRIPTION:Wir bringen Sie bequem zu den Sehenswürdigkeiten und zum Strand! Tageskarten sind nicht übertragbare Karten
URL:https://carobahn.de/event/linienfahrt-02-september-2026/
CATEGORIES:Linienfahrt
ATTACH;FMTTYPE=image/jpeg:https://carobahn.de/wp-content/uploads/2025/02/Carobahn-13.4.22-22-scaled-m2mqOE.tmp_.jpg
END:VEVENT
BEGIN:VEVENT
DTSTART;TZID=Europe/Berlin:20260903T110000
DTEND;TZID=Europe/Berlin:20260903T171500
DTSTAMP:20260423T123119
CREATED:20260208T202005Z
LAST-MODIFIED:20260208T202005Z
UID:9992-1788433200-1788455700@carobahn.de
SUMMARY:Linienfahrt 03. September 2026
DESCRIPTION:Wir bringen Sie bequem zu den Sehenswürdigkeiten und zum Strand! Tageskarten sind nicht übertragbare Karten
URL:https://carobahn.de/event/linienfahrt-03-september-2026/
CATEGORIES:Linienfahrt
ATTACH;FMTTYPE=image/jpeg:https://carobahn.de/wp-content/uploads/2025/02/Carobahn-13.4.22-22-scaled-m2mqOE.tmp_.jpg
END:VEVENT
BEGIN:VEVENT
DTSTART;TZID=Europe/Berlin:20260904T110000
DTEND;TZID=Europe/Berlin:20260904T171500
DTSTAMP:20260423T123119
CREATED:20260208T202006Z
LAST-MODIFIED:20260208T202006Z
UID:9993-1788519600-1788542100@carobahn.de
SUMMARY:Linienfahrt 04. September 2026
DESCRIPTION:Wir bringen Sie bequem zu den Sehenswürdigkeiten und zum Strand! Tageskarten sind nicht übertragbare Karten
URL:https://carobahn.de/event/linienfahrt-04-september-2026/
CATEGORIES:Linienfahrt
ATTACH;FMTTYPE=image/jpeg:https://carobahn.de/wp-content/uploads/2025/02/Carobahn-13.4.22-22-scaled-m2mqOE.tmp_.jpg
END:VEVENT
BEGIN:VEVENT
DTSTART;TZID=Europe/Berlin:20260904T173000
DTEND;TZID=Europe/Berlin:20260904T184500
DTSTAMP:20260423T123119
CREATED:20260208T205712Z
LAST-MODIFIED:20260208T205712Z
UID:10209-1788543000-1788547500@carobahn.de
SUMMARY:Öffentliche Rundfahrt 04. September 2026
DESCRIPTION:Gästeführer Carsten fährt mit Ihnen durch Carolinensiel und erzählt die Geschichte des Sielortes.
URL:https://carobahn.de/event/oeffentliche-rundfahrt-04-september-2026/
LOCATION:Haltestelle Feuerwehr\, Neue Str. 4\, Wittmund\, 26409
CATEGORIES:Öffentliche Rundfahrt
ATTACH;FMTTYPE=image/jpeg:https://carobahn.de/wp-content/uploads/2025/02/Carobahn-13.4.22-4-scaled-xV9waX.tmp_.jpg
END:VEVENT
BEGIN:VEVENT
DTSTART;TZID=Europe/Berlin:20260905T110000
DTEND;TZID=Europe/Berlin:20260905T171500
DTSTAMP:20260423T123119
CREATED:20260208T202008Z
LAST-MODIFIED:20260208T202008Z
UID:9994-1788606000-1788628500@carobahn.de
SUMMARY:Linienfahrt 05. September 2026
DESCRIPTION:Wir bringen Sie bequem zu den Sehenswürdigkeiten und zum Strand! Tageskarten sind nicht übertragbare Karten
URL:https://carobahn.de/event/linienfahrt-05-september-2026/
CATEGORIES:Linienfahrt
ATTACH;FMTTYPE=image/jpeg:https://carobahn.de/wp-content/uploads/2025/02/Carobahn-13.4.22-22-scaled-m2mqOE.tmp_.jpg
END:VEVENT
BEGIN:VEVENT
DTSTART;TZID=Europe/Berlin:20260906T110000
DTEND;TZID=Europe/Berlin:20260906T171500
DTSTAMP:20260423T123119
CREATED:20260208T202009Z
LAST-MODIFIED:20260208T202009Z
UID:9995-1788692400-1788714900@carobahn.de
SUMMARY:Linienfahrt 06. September 2026
DESCRIPTION:Wir bringen Sie bequem zu den Sehenswürdigkeiten und zum Strand! Tageskarten sind nicht übertragbare Karten
URL:https://carobahn.de/event/linienfahrt-06-september-2026/
CATEGORIES:Linienfahrt
ATTACH;FMTTYPE=image/jpeg:https://carobahn.de/wp-content/uploads/2025/02/Carobahn-13.4.22-22-scaled-m2mqOE.tmp_.jpg
END:VEVENT
BEGIN:VEVENT
DTSTART;TZID=Europe/Berlin:20260907T110000
DTEND;TZID=Europe/Berlin:20260907T171500
DTSTAMP:20260423T123119
CREATED:20260208T202011Z
LAST-MODIFIED:20260208T202011Z
UID:9996-1788778800-1788801300@carobahn.de
SUMMARY:Linienfahrt 07. September 2026
DESCRIPTION:Wir bringen Sie bequem zu den Sehenswürdigkeiten und zum Strand! Tageskarten sind nicht übertragbare Karten
URL:https://carobahn.de/event/linienfahrt-07-september-2026/
CATEGORIES:Linienfahrt
ATTACH;FMTTYPE=image/jpeg:https://carobahn.de/wp-content/uploads/2025/02/Carobahn-13.4.22-22-scaled-m2mqOE.tmp_.jpg
END:VEVENT
BEGIN:VEVENT
DTSTART;TZID=Europe/Berlin:20260908T110000
DTEND;TZID=Europe/Berlin:20260908T171500
DTSTAMP:20260423T123119
CREATED:20260208T202030Z
LAST-MODIFIED:20260208T202030Z
UID:9997-1788865200-1788887700@carobahn.de
SUMMARY:Linienfahrt 08. September 2026
DESCRIPTION:Wir bringen Sie bequem zu den Sehenswürdigkeiten und zum Strand! Tageskarten sind nicht übertragbare Karten
URL:https://carobahn.de/event/linienfahrt-08-september-2026/
CATEGORIES:Linienfahrt
ATTACH;FMTTYPE=image/jpeg:https://carobahn.de/wp-content/uploads/2025/02/Carobahn-13.4.22-22-scaled-m2mqOE.tmp_.jpg
END:VEVENT
BEGIN:VEVENT
DTSTART;TZID=Europe/Berlin:20260909T110000
DTEND;TZID=Europe/Berlin:20260909T171500
DTSTAMP:20260423T123119
CREATED:20260208T202032Z
LAST-MODIFIED:20260208T202032Z
UID:9998-1788951600-1788974100@carobahn.de
SUMMARY:Linienfahrt 09. September 2026
DESCRIPTION:Wir bringen Sie bequem zu den Sehenswürdigkeiten und zum Strand! Tageskarten sind nicht übertragbare Karten
URL:https://carobahn.de/event/linienfahrt-09-september-2026/
CATEGORIES:Linienfahrt
ATTACH;FMTTYPE=image/jpeg:https://carobahn.de/wp-content/uploads/2025/02/Carobahn-13.4.22-22-scaled-m2mqOE.tmp_.jpg
END:VEVENT
BEGIN:VEVENT
DTSTART;TZID=Europe/Berlin:20260910T110000
DTEND;TZID=Europe/Berlin:20260910T171500
DTSTAMP:20260423T123119
CREATED:20260208T202033Z
LAST-MODIFIED:20260208T202033Z
UID:9999-1789038000-1789060500@carobahn.de
SUMMARY:Linienfahrt 10. September 2026
DESCRIPTION:Wir bringen Sie bequem zu den Sehenswürdigkeiten und zum Strand! Tageskarten sind nicht übertragbare Karten
URL:https://carobahn.de/event/linienfahrt-10-september-2026/
CATEGORIES:Linienfahrt
ATTACH;FMTTYPE=image/jpeg:https://carobahn.de/wp-content/uploads/2025/02/Carobahn-13.4.22-22-scaled-m2mqOE.tmp_.jpg
END:VEVENT
BEGIN:VEVENT
DTSTART;TZID=Europe/Berlin:20260911T110000
DTEND;TZID=Europe/Berlin:20260911T171500
DTSTAMP:20260423T123119
CREATED:20260208T202034Z
LAST-MODIFIED:20260208T202034Z
UID:10000-1789124400-1789146900@carobahn.de
SUMMARY:Linienfahrt 11. September 2026
DESCRIPTION:Wir bringen Sie bequem zu den Sehenswürdigkeiten und zum Strand! Tageskarten sind nicht übertragbare Karten
URL:https://carobahn.de/event/linienfahrt-11-september-2026/
CATEGORIES:Linienfahrt
ATTACH;FMTTYPE=image/jpeg:https://carobahn.de/wp-content/uploads/2025/02/Carobahn-13.4.22-22-scaled-m2mqOE.tmp_.jpg
END:VEVENT
BEGIN:VEVENT
DTSTART;TZID=Europe/Berlin:20260911T173000
DTEND;TZID=Europe/Berlin:20260911T184500
DTSTAMP:20260423T123119
CREATED:20260208T205714Z
LAST-MODIFIED:20260208T205714Z
UID:10210-1789147800-1789152300@carobahn.de
SUMMARY:Öffentliche Rundfahrt 11. September 2026
DESCRIPTION:Gästeführer Carsten fährt mit Ihnen durch Carolinensiel und erzählt die Geschichte des Sielortes.
URL:https://carobahn.de/event/oeffentliche-rundfahrt-11-september-2026/
LOCATION:Haltestelle Feuerwehr\, Neue Str. 4\, Wittmund\, 26409
CATEGORIES:Öffentliche Rundfahrt
ATTACH;FMTTYPE=image/jpeg:https://carobahn.de/wp-content/uploads/2025/02/Carobahn-13.4.22-4-scaled-xV9waX.tmp_.jpg
END:VEVENT
BEGIN:VEVENT
DTSTART;TZID=Europe/Berlin:20260912T110000
DTEND;TZID=Europe/Berlin:20260912T171500
DTSTAMP:20260423T123119
CREATED:20260208T202036Z
LAST-MODIFIED:20260208T202036Z
UID:10001-1789210800-1789233300@carobahn.de
SUMMARY:Linienfahrt 12. September 2026
DESCRIPTION:Wir bringen Sie bequem zu den Sehenswürdigkeiten und zum Strand! Tageskarten sind nicht übertragbare Karten
URL:https://carobahn.de/event/linienfahrt-12-september-2026/
CATEGORIES:Linienfahrt
ATTACH;FMTTYPE=image/jpeg:https://carobahn.de/wp-content/uploads/2025/02/Carobahn-13.4.22-22-scaled-m2mqOE.tmp_.jpg
END:VEVENT
BEGIN:VEVENT
DTSTART;TZID=Europe/Berlin:20260913T110000
DTEND;TZID=Europe/Berlin:20260913T171500
DTSTAMP:20260423T123119
CREATED:20260208T202057Z
LAST-MODIFIED:20260208T202057Z
UID:10002-1789297200-1789319700@carobahn.de
SUMMARY:Linienfahrt 13. September 2026
DESCRIPTION:Wir bringen Sie bequem zu den Sehenswürdigkeiten und zum Strand! Tageskarten sind nicht übertragbare Karten
URL:https://carobahn.de/event/linienfahrt-13-september-2026/
CATEGORIES:Linienfahrt
ATTACH;FMTTYPE=image/jpeg:https://carobahn.de/wp-content/uploads/2025/02/Carobahn-13.4.22-22-scaled-m2mqOE.tmp_.jpg
END:VEVENT
BEGIN:VEVENT
DTSTART;TZID=Europe/Berlin:20260914T110000
DTEND;TZID=Europe/Berlin:20260914T171500
DTSTAMP:20260423T123119
CREATED:20260208T202058Z
LAST-MODIFIED:20260208T202058Z
UID:10003-1789383600-1789406100@carobahn.de
SUMMARY:Linienfahrt 14. September 2026
DESCRIPTION:Wir bringen Sie bequem zu den Sehenswürdigkeiten und zum Strand! Tageskarten sind nicht übertragbare Karten
URL:https://carobahn.de/event/linienfahrt-14-september-2026/
CATEGORIES:Linienfahrt
ATTACH;FMTTYPE=image/jpeg:https://carobahn.de/wp-content/uploads/2025/02/Carobahn-13.4.22-22-scaled-m2mqOE.tmp_.jpg
END:VEVENT
BEGIN:VEVENT
DTSTART;TZID=Europe/Berlin:20260915T110000
DTEND;TZID=Europe/Berlin:20260915T171500
DTSTAMP:20260423T123119
CREATED:20260208T202100Z
LAST-MODIFIED:20260208T202100Z
UID:10004-1789470000-1789492500@carobahn.de
SUMMARY:Linienfahrt 15. September 2026
DESCRIPTION:Wir bringen Sie bequem zu den Sehenswürdigkeiten und zum Strand! Tageskarten sind nicht übertragbare Karten
URL:https://carobahn.de/event/linienfahrt-15-september-2026/
CATEGORIES:Linienfahrt
ATTACH;FMTTYPE=image/jpeg:https://carobahn.de/wp-content/uploads/2025/02/Carobahn-13.4.22-22-scaled-m2mqOE.tmp_.jpg
END:VEVENT
BEGIN:VEVENT
DTSTART;TZID=Europe/Berlin:20260916T110000
DTEND;TZID=Europe/Berlin:20260916T171500
DTSTAMP:20260423T123119
CREATED:20260208T202101Z
LAST-MODIFIED:20260208T202101Z
UID:10005-1789556400-1789578900@carobahn.de
SUMMARY:Linienfahrt 16. September 2026
DESCRIPTION:Wir bringen Sie bequem zu den Sehenswürdigkeiten und zum Strand! Tageskarten sind nicht übertragbare Karten
URL:https://carobahn.de/event/linienfahrt-16-september-2026/
CATEGORIES:Linienfahrt
ATTACH;FMTTYPE=image/jpeg:https://carobahn.de/wp-content/uploads/2025/02/Carobahn-13.4.22-22-scaled-m2mqOE.tmp_.jpg
END:VEVENT
BEGIN:VEVENT
DTSTART;TZID=Europe/Berlin:20260917T110000
DTEND;TZID=Europe/Berlin:20260917T171500
DTSTAMP:20260423T123119
CREATED:20260208T202103Z
LAST-MODIFIED:20260208T202103Z
UID:10006-1789642800-1789665300@carobahn.de
SUMMARY:Linienfahrt 17. September 2026
DESCRIPTION:Wir bringen Sie bequem zu den Sehenswürdigkeiten und zum Strand! Tageskarten sind nicht übertragbare Karten
URL:https://carobahn.de/event/linienfahrt-17-september-2026/
CATEGORIES:Linienfahrt
ATTACH;FMTTYPE=image/jpeg:https://carobahn.de/wp-content/uploads/2025/02/Carobahn-13.4.22-22-scaled-m2mqOE.tmp_.jpg
END:VEVENT
BEGIN:VEVENT
DTSTART;TZID=Europe/Berlin:20260918T110000
DTEND;TZID=Europe/Berlin:20260918T171500
DTSTAMP:20260423T123119
CREATED:20260208T202122Z
LAST-MODIFIED:20260208T202122Z
UID:10007-1789729200-1789751700@carobahn.de
SUMMARY:Linienfahrt 18. September 2026
DESCRIPTION:Wir bringen Sie bequem zu den Sehenswürdigkeiten und zum Strand! Tageskarten sind nicht übertragbare Karten
URL:https://carobahn.de/event/linienfahrt-18-september-2026/
CATEGORIES:Linienfahrt
ATTACH;FMTTYPE=image/jpeg:https://carobahn.de/wp-content/uploads/2025/02/Carobahn-13.4.22-22-scaled-m2mqOE.tmp_.jpg
END:VEVENT
BEGIN:VEVENT
DTSTART;TZID=Europe/Berlin:20260918T173000
DTEND;TZID=Europe/Berlin:20260918T184500
DTSTAMP:20260423T123119
CREATED:20260208T205839Z
LAST-MODIFIED:20260208T205839Z
UID:10211-1789752600-1789757100@carobahn.de
SUMMARY:Öffentliche Rundfahrt 18. September 2026
DESCRIPTION:Gästeführer Carsten fährt mit Ihnen durch Carolinensiel und erzählt die Geschichte des Sielortes.
URL:https://carobahn.de/event/oeffentliche-rundfahrt-18-september-2026/
LOCATION:Haltestelle Feuerwehr\, Neue Str. 4\, Wittmund\, 26409
CATEGORIES:Öffentliche Rundfahrt
ATTACH;FMTTYPE=image/jpeg:https://carobahn.de/wp-content/uploads/2025/02/Carobahn-13.4.22-4-scaled-xV9waX.tmp_.jpg
END:VEVENT
BEGIN:VEVENT
DTSTART;TZID=Europe/Berlin:20260919T110000
DTEND;TZID=Europe/Berlin:20260919T171500
DTSTAMP:20260423T123119
CREATED:20260208T202124Z
LAST-MODIFIED:20260208T202124Z
UID:10008-1789815600-1789838100@carobahn.de
SUMMARY:Linienfahrt 19. September 2026
DESCRIPTION:Wir bringen Sie bequem zu den Sehenswürdigkeiten und zum Strand! Tageskarten sind nicht übertragbare Karten
URL:https://carobahn.de/event/linienfahrt-19-september-2026/
CATEGORIES:Linienfahrt
ATTACH;FMTTYPE=image/jpeg:https://carobahn.de/wp-content/uploads/2025/02/Carobahn-13.4.22-22-scaled-m2mqOE.tmp_.jpg
END:VEVENT
BEGIN:VEVENT
DTSTART;TZID=Europe/Berlin:20260920T110000
DTEND;TZID=Europe/Berlin:20260920T171500
DTSTAMP:20260423T123119
CREATED:20260208T202125Z
LAST-MODIFIED:20260208T202125Z
UID:10009-1789902000-1789924500@carobahn.de
SUMMARY:Linienfahrt 20. September 2026
DESCRIPTION:Wir bringen Sie bequem zu den Sehenswürdigkeiten und zum Strand! Tageskarten sind nicht übertragbare Karten
URL:https://carobahn.de/event/linienfahrt-20-september-2026/
CATEGORIES:Linienfahrt
ATTACH;FMTTYPE=image/jpeg:https://carobahn.de/wp-content/uploads/2025/02/Carobahn-13.4.22-22-scaled-m2mqOE.tmp_.jpg
END:VEVENT
BEGIN:VEVENT
DTSTART;TZID=Europe/Berlin:20260921T110000
DTEND;TZID=Europe/Berlin:20260921T171500
DTSTAMP:20260423T123119
CREATED:20260208T202126Z
LAST-MODIFIED:20260208T202126Z
UID:10010-1789988400-1790010900@carobahn.de
SUMMARY:Linienfahrt 21. September 2026
DESCRIPTION:Wir bringen Sie bequem zu den Sehenswürdigkeiten und zum Strand! Tageskarten sind nicht übertragbare Karten
URL:https://carobahn.de/event/linienfahrt-21-september-2026/
CATEGORIES:Linienfahrt
ATTACH;FMTTYPE=image/jpeg:https://carobahn.de/wp-content/uploads/2025/02/Carobahn-13.4.22-22-scaled-m2mqOE.tmp_.jpg
END:VEVENT
BEGIN:VEVENT
DTSTART;TZID=Europe/Berlin:20260922T110000
DTEND;TZID=Europe/Berlin:20260922T171500
DTSTAMP:20260423T123119
CREATED:20260208T202128Z
LAST-MODIFIED:20260208T202128Z
UID:10011-1790074800-1790097300@carobahn.de
SUMMARY:Linienfahrt 22. September 2026
DESCRIPTION:Wir bringen Sie bequem zu den Sehenswürdigkeiten und zum Strand! Tageskarten sind nicht übertragbare Karten
URL:https://carobahn.de/event/linienfahrt-22-september-2026/
CATEGORIES:Linienfahrt
ATTACH;FMTTYPE=image/jpeg:https://carobahn.de/wp-content/uploads/2025/02/Carobahn-13.4.22-22-scaled-m2mqOE.tmp_.jpg
END:VEVENT
BEGIN:VEVENT
DTSTART;TZID=Europe/Berlin:20260923T110000
DTEND;TZID=Europe/Berlin:20260923T171500
DTSTAMP:20260423T123119
CREATED:20260208T202147Z
LAST-MODIFIED:20260208T202147Z
UID:10012-1790161200-1790183700@carobahn.de
SUMMARY:Linienfahrt 23. September 2026
DESCRIPTION:Wir bringen Sie bequem zu den Sehenswürdigkeiten und zum Strand! Tageskarten sind nicht übertragbare Karten
URL:https://carobahn.de/event/linienfahrt-23-september-2026/
CATEGORIES:Linienfahrt
ATTACH;FMTTYPE=image/jpeg:https://carobahn.de/wp-content/uploads/2025/02/Carobahn-13.4.22-22-scaled-m2mqOE.tmp_.jpg
END:VEVENT
BEGIN:VEVENT
DTSTART;TZID=Europe/Berlin:20260924T110000
DTEND;TZID=Europe/Berlin:20260924T171500
DTSTAMP:20260423T123119
CREATED:20260208T202148Z
LAST-MODIFIED:20260208T202148Z
UID:10013-1790247600-1790270100@carobahn.de
SUMMARY:Linienfahrt 24. September 2026
DESCRIPTION:Wir bringen Sie bequem zu den Sehenswürdigkeiten und zum Strand! Tageskarten sind nicht übertragbare Karten
URL:https://carobahn.de/event/linienfahrt-24-september-2026/
CATEGORIES:Linienfahrt
ATTACH;FMTTYPE=image/jpeg:https://carobahn.de/wp-content/uploads/2025/02/Carobahn-13.4.22-22-scaled-m2mqOE.tmp_.jpg
END:VEVENT
BEGIN:VEVENT
DTSTART;TZID=Europe/Berlin:20260925T110000
DTEND;TZID=Europe/Berlin:20260925T171500
DTSTAMP:20260423T123119
CREATED:20260208T202150Z
LAST-MODIFIED:20260208T202150Z
UID:10014-1790334000-1790356500@carobahn.de
SUMMARY:Linienfahrt 25. September 2026
DESCRIPTION:Wir bringen Sie bequem zu den Sehenswürdigkeiten und zum Strand! Tageskarten sind nicht übertragbare Karten
URL:https://carobahn.de/event/linienfahrt-25-september-2026/
CATEGORIES:Linienfahrt
ATTACH;FMTTYPE=image/jpeg:https://carobahn.de/wp-content/uploads/2025/02/Carobahn-13.4.22-22-scaled-m2mqOE.tmp_.jpg
END:VEVENT
BEGIN:VEVENT
DTSTART;TZID=Europe/Berlin:20260925T173000
DTEND;TZID=Europe/Berlin:20260925T184500
DTSTAMP:20260423T123119
CREATED:20260208T205840Z
LAST-MODIFIED:20260208T205840Z
UID:10212-1790357400-1790361900@carobahn.de
SUMMARY:Öffentliche Rundfahrt 25. September 2026
DESCRIPTION:Gästeführer Carsten fährt mit Ihnen durch Carolinensiel und erzählt die Geschichte des Sielortes.
URL:https://carobahn.de/event/oeffentliche-rundfahrt-25-september-2026/
LOCATION:Haltestelle Feuerwehr\, Neue Str. 4\, Wittmund\, 26409
CATEGORIES:Öffentliche Rundfahrt
ATTACH;FMTTYPE=image/jpeg:https://carobahn.de/wp-content/uploads/2025/02/Carobahn-13.4.22-4-scaled-xV9waX.tmp_.jpg
END:VEVENT
BEGIN:VEVENT
DTSTART;TZID=Europe/Berlin:20260926T110000
DTEND;TZID=Europe/Berlin:20260926T171500
DTSTAMP:20260423T123119
CREATED:20260208T202151Z
LAST-MODIFIED:20260208T202151Z
UID:10015-1790420400-1790442900@carobahn.de
SUMMARY:Linienfahrt 26. September 2026
DESCRIPTION:Wir bringen Sie bequem zu den Sehenswürdigkeiten und zum Strand! Tageskarten sind nicht übertragbare Karten
URL:https://carobahn.de/event/linienfahrt-26-september-2026/
CATEGORIES:Linienfahrt
ATTACH;FMTTYPE=image/jpeg:https://carobahn.de/wp-content/uploads/2025/02/Carobahn-13.4.22-22-scaled-m2mqOE.tmp_.jpg
END:VEVENT
END:VCALENDAR