BEGIN:VCALENDAR
VERSION:2.0
PRODID:-//Carobahn - ECPv6.15.20//NONSGML v1.0//EN
CALSCALE:GREGORIAN
METHOD:PUBLISH
X-WR-CALNAME:Carobahn
X-ORIGINAL-URL:https://carobahn.de
X-WR-CALDESC:Veranstaltungen für Carobahn
REFRESH-INTERVAL;VALUE=DURATION:PT1H
X-Robots-Tag:noindex
X-PUBLISHED-TTL:PT1H
BEGIN:VTIMEZONE
TZID:Europe/Berlin
BEGIN:DAYLIGHT
TZOFFSETFROM:+0100
TZOFFSETTO:+0200
TZNAME:CEST
DTSTART:20250330T010000
END:DAYLIGHT
BEGIN:STANDARD
TZOFFSETFROM:+0200
TZOFFSETTO:+0100
TZNAME:CET
DTSTART:20251026T010000
END:STANDARD
BEGIN:DAYLIGHT
TZOFFSETFROM:+0100
TZOFFSETTO:+0200
TZNAME:CEST
DTSTART:20260329T010000
END:DAYLIGHT
BEGIN:STANDARD
TZOFFSETFROM:+0200
TZOFFSETTO:+0100
TZNAME:CET
DTSTART:20261025T010000
END:STANDARD
BEGIN:DAYLIGHT
TZOFFSETFROM:+0100
TZOFFSETTO:+0200
TZNAME:CEST
DTSTART:20270328T010000
END:DAYLIGHT
BEGIN:STANDARD
TZOFFSETFROM:+0200
TZOFFSETTO:+0100
TZNAME:CET
DTSTART:20271031T010000
END:STANDARD
END:VTIMEZONE
BEGIN:VEVENT
DTSTART;TZID=Europe/Berlin:20261001T110000
DTEND;TZID=Europe/Berlin:20261001T171500
DTSTAMP:20260423T122417
CREATED:20260208T202217Z
LAST-MODIFIED:20260208T202217Z
UID:10020-1790852400-1790874900@carobahn.de
SUMMARY:Linienfahrt 01. Oktober 2026
DESCRIPTION:Wir bringen Sie bequem zu den Sehenswürdigkeiten und zum Strand! Tageskarten sind nicht übertragbare Karten
URL:https://carobahn.de/event/linienfahrt-01-oktober-2026/
CATEGORIES:Linienfahrt
ATTACH;FMTTYPE=image/jpeg:https://carobahn.de/wp-content/uploads/2025/02/Carobahn-13.4.22-22-scaled-m2mqOE.tmp_.jpg
END:VEVENT
BEGIN:VEVENT
DTSTART;TZID=Europe/Berlin:20261002T110000
DTEND;TZID=Europe/Berlin:20261002T171500
DTSTAMP:20260423T122417
CREATED:20260208T202219Z
LAST-MODIFIED:20260208T202219Z
UID:10021-1790938800-1790961300@carobahn.de
SUMMARY:Linienfahrt 02. Oktober 2026
DESCRIPTION:Wir bringen Sie bequem zu den Sehenswürdigkeiten und zum Strand! Tageskarten sind nicht übertragbare Karten
URL:https://carobahn.de/event/linienfahrt-02-oktober-2026/
CATEGORIES:Linienfahrt
ATTACH;FMTTYPE=image/jpeg:https://carobahn.de/wp-content/uploads/2025/02/Carobahn-13.4.22-22-scaled-m2mqOE.tmp_.jpg
END:VEVENT
BEGIN:VEVENT
DTSTART;TZID=Europe/Berlin:20261003T110000
DTEND;TZID=Europe/Berlin:20261003T171500
DTSTAMP:20260423T122417
CREATED:20260208T202238Z
LAST-MODIFIED:20260208T202238Z
UID:10022-1791025200-1791047700@carobahn.de
SUMMARY:Linienfahrt 03. Oktober 2026
DESCRIPTION:Wir bringen Sie bequem zu den Sehenswürdigkeiten und zum Strand! Tageskarten sind nicht übertragbare Karten
URL:https://carobahn.de/event/linienfahrt-03-oktober-2026/
CATEGORIES:Linienfahrt
ATTACH;FMTTYPE=image/jpeg:https://carobahn.de/wp-content/uploads/2025/02/Carobahn-13.4.22-22-scaled-m2mqOE.tmp_.jpg
END:VEVENT
BEGIN:VEVENT
DTSTART;TZID=Europe/Berlin:20261004T110000
DTEND;TZID=Europe/Berlin:20261004T171500
DTSTAMP:20260423T122418
CREATED:20260208T202239Z
LAST-MODIFIED:20260208T202239Z
UID:10023-1791111600-1791134100@carobahn.de
SUMMARY:Linienfahrt 04. Oktober 2026
DESCRIPTION:Wir bringen Sie bequem zu den Sehenswürdigkeiten und zum Strand! Tageskarten sind nicht übertragbare Karten
URL:https://carobahn.de/event/linienfahrt-04-oktober-2026/
CATEGORIES:Linienfahrt
ATTACH;FMTTYPE=image/jpeg:https://carobahn.de/wp-content/uploads/2025/02/Carobahn-13.4.22-22-scaled-m2mqOE.tmp_.jpg
END:VEVENT
BEGIN:VEVENT
DTSTART;TZID=Europe/Berlin:20261005T110000
DTEND;TZID=Europe/Berlin:20261005T171500
DTSTAMP:20260423T122418
CREATED:20260208T202241Z
LAST-MODIFIED:20260208T202241Z
UID:10024-1791198000-1791220500@carobahn.de
SUMMARY:Linienfahrt 05. Oktober 2026
DESCRIPTION:Wir bringen Sie bequem zu den Sehenswürdigkeiten und zum Strand! Tageskarten sind nicht übertragbare Karten
URL:https://carobahn.de/event/linienfahrt-05-oktober-2026/
CATEGORIES:Linienfahrt
ATTACH;FMTTYPE=image/jpeg:https://carobahn.de/wp-content/uploads/2025/02/Carobahn-13.4.22-22-scaled-m2mqOE.tmp_.jpg
END:VEVENT
BEGIN:VEVENT
DTSTART;TZID=Europe/Berlin:20261006T110000
DTEND;TZID=Europe/Berlin:20261006T171500
DTSTAMP:20260423T122418
CREATED:20260208T202242Z
LAST-MODIFIED:20260208T202242Z
UID:10025-1791284400-1791306900@carobahn.de
SUMMARY:Linienfahrt 06. Oktober 2026
DESCRIPTION:Wir bringen Sie bequem zu den Sehenswürdigkeiten und zum Strand! Tageskarten sind nicht übertragbare Karten
URL:https://carobahn.de/event/linienfahrt-06-oktober-2026/
CATEGORIES:Linienfahrt
ATTACH;FMTTYPE=image/jpeg:https://carobahn.de/wp-content/uploads/2025/02/Carobahn-13.4.22-22-scaled-m2mqOE.tmp_.jpg
END:VEVENT
BEGIN:VEVENT
DTSTART;TZID=Europe/Berlin:20261007T110000
DTEND;TZID=Europe/Berlin:20261007T171500
DTSTAMP:20260423T122418
CREATED:20260208T202244Z
LAST-MODIFIED:20260208T202244Z
UID:10026-1791370800-1791393300@carobahn.de
SUMMARY:Linienfahrt 07. Oktober 2026
DESCRIPTION:Wir bringen Sie bequem zu den Sehenswürdigkeiten und zum Strand! Tageskarten sind nicht übertragbare Karten
URL:https://carobahn.de/event/linienfahrt-07-oktober-2026/
CATEGORIES:Linienfahrt
ATTACH;FMTTYPE=image/jpeg:https://carobahn.de/wp-content/uploads/2025/02/Carobahn-13.4.22-22-scaled-m2mqOE.tmp_.jpg
END:VEVENT
BEGIN:VEVENT
DTSTART;TZID=Europe/Berlin:20261008T110000
DTEND;TZID=Europe/Berlin:20261008T171500
DTSTAMP:20260423T122418
CREATED:20260208T202303Z
LAST-MODIFIED:20260208T202303Z
UID:10027-1791457200-1791479700@carobahn.de
SUMMARY:Linienfahrt 08. Oktober 2026
DESCRIPTION:Wir bringen Sie bequem zu den Sehenswürdigkeiten und zum Strand! Tageskarten sind nicht übertragbare Karten
URL:https://carobahn.de/event/linienfahrt-08-oktober-2026/
CATEGORIES:Linienfahrt
ATTACH;FMTTYPE=image/jpeg:https://carobahn.de/wp-content/uploads/2025/02/Carobahn-13.4.22-22-scaled-m2mqOE.tmp_.jpg
END:VEVENT
BEGIN:VEVENT
DTSTART;TZID=Europe/Berlin:20261009T110000
DTEND;TZID=Europe/Berlin:20261009T171500
DTSTAMP:20260423T122418
CREATED:20260208T202304Z
LAST-MODIFIED:20260208T202304Z
UID:10028-1791543600-1791566100@carobahn.de
SUMMARY:Linienfahrt 09. Oktober 2026
DESCRIPTION:Wir bringen Sie bequem zu den Sehenswürdigkeiten und zum Strand! Tageskarten sind nicht übertragbare Karten
URL:https://carobahn.de/event/linienfahrt-09-oktober-2026/
CATEGORIES:Linienfahrt
ATTACH;FMTTYPE=image/jpeg:https://carobahn.de/wp-content/uploads/2025/02/Carobahn-13.4.22-22-scaled-m2mqOE.tmp_.jpg
END:VEVENT
BEGIN:VEVENT
DTSTART;TZID=Europe/Berlin:20261010T110000
DTEND;TZID=Europe/Berlin:20261010T171500
DTSTAMP:20260423T122418
CREATED:20260208T202306Z
LAST-MODIFIED:20260208T202306Z
UID:10029-1791630000-1791652500@carobahn.de
SUMMARY:Linienfahrt 10. Oktober 2026
DESCRIPTION:Wir bringen Sie bequem zu den Sehenswürdigkeiten und zum Strand! Tageskarten sind nicht übertragbare Karten
URL:https://carobahn.de/event/linienfahrt-10-oktober-2026/
CATEGORIES:Linienfahrt
ATTACH;FMTTYPE=image/jpeg:https://carobahn.de/wp-content/uploads/2025/02/Carobahn-13.4.22-22-scaled-m2mqOE.tmp_.jpg
END:VEVENT
BEGIN:VEVENT
DTSTART;TZID=Europe/Berlin:20261011T110000
DTEND;TZID=Europe/Berlin:20261011T171500
DTSTAMP:20260423T122418
CREATED:20260208T202307Z
LAST-MODIFIED:20260208T202307Z
UID:10030-1791716400-1791738900@carobahn.de
SUMMARY:Linienfahrt 11. Oktober 2026
DESCRIPTION:Wir bringen Sie bequem zu den Sehenswürdigkeiten und zum Strand! Tageskarten sind nicht übertragbare Karten
URL:https://carobahn.de/event/linienfahrt-11-oktober-2026/
CATEGORIES:Linienfahrt
ATTACH;FMTTYPE=image/jpeg:https://carobahn.de/wp-content/uploads/2025/02/Carobahn-13.4.22-22-scaled-m2mqOE.tmp_.jpg
END:VEVENT
BEGIN:VEVENT
DTSTART;TZID=Europe/Berlin:20261012T110000
DTEND;TZID=Europe/Berlin:20261012T171500
DTSTAMP:20260423T122418
CREATED:20260208T202309Z
LAST-MODIFIED:20260208T202309Z
UID:10031-1791802800-1791825300@carobahn.de
SUMMARY:Linienfahrt 12. Oktober 2026
DESCRIPTION:Wir bringen Sie bequem zu den Sehenswürdigkeiten und zum Strand! Tageskarten sind nicht übertragbare Karten
URL:https://carobahn.de/event/linienfahrt-12-oktober-2026/
CATEGORIES:Linienfahrt
ATTACH;FMTTYPE=image/jpeg:https://carobahn.de/wp-content/uploads/2025/02/Carobahn-13.4.22-22-scaled-m2mqOE.tmp_.jpg
END:VEVENT
BEGIN:VEVENT
DTSTART;TZID=Europe/Berlin:20261013T110000
DTEND;TZID=Europe/Berlin:20261013T171500
DTSTAMP:20260423T122418
CREATED:20260208T202327Z
LAST-MODIFIED:20260208T202327Z
UID:10032-1791889200-1791911700@carobahn.de
SUMMARY:Linienfahrt 13. Oktober 2026
DESCRIPTION:Wir bringen Sie bequem zu den Sehenswürdigkeiten und zum Strand! Tageskarten sind nicht übertragbare Karten
URL:https://carobahn.de/event/linienfahrt-13-oktober-2026/
CATEGORIES:Linienfahrt
ATTACH;FMTTYPE=image/jpeg:https://carobahn.de/wp-content/uploads/2025/02/Carobahn-13.4.22-22-scaled-m2mqOE.tmp_.jpg
END:VEVENT
BEGIN:VEVENT
DTSTART;TZID=Europe/Berlin:20261014T110000
DTEND;TZID=Europe/Berlin:20261014T171500
DTSTAMP:20260423T122418
CREATED:20260208T202328Z
LAST-MODIFIED:20260208T202328Z
UID:10033-1791975600-1791998100@carobahn.de
SUMMARY:Linienfahrt 14. Oktober 2026
DESCRIPTION:Wir bringen Sie bequem zu den Sehenswürdigkeiten und zum Strand! Tageskarten sind nicht übertragbare Karten
URL:https://carobahn.de/event/linienfahrt-14-oktober-2026/
CATEGORIES:Linienfahrt
ATTACH;FMTTYPE=image/jpeg:https://carobahn.de/wp-content/uploads/2025/02/Carobahn-13.4.22-22-scaled-m2mqOE.tmp_.jpg
END:VEVENT
BEGIN:VEVENT
DTSTART;TZID=Europe/Berlin:20261015T110000
DTEND;TZID=Europe/Berlin:20261015T171500
DTSTAMP:20260423T122418
CREATED:20260208T202330Z
LAST-MODIFIED:20260208T202330Z
UID:10034-1792062000-1792084500@carobahn.de
SUMMARY:Linienfahrt 15. Oktober 2026
DESCRIPTION:Wir bringen Sie bequem zu den Sehenswürdigkeiten und zum Strand! Tageskarten sind nicht übertragbare Karten
URL:https://carobahn.de/event/linienfahrt-15-oktober-2026/
CATEGORIES:Linienfahrt
ATTACH;FMTTYPE=image/jpeg:https://carobahn.de/wp-content/uploads/2025/02/Carobahn-13.4.22-22-scaled-m2mqOE.tmp_.jpg
END:VEVENT
BEGIN:VEVENT
DTSTART;TZID=Europe/Berlin:20261016T110000
DTEND;TZID=Europe/Berlin:20261016T171500
DTSTAMP:20260423T122418
CREATED:20260208T202331Z
LAST-MODIFIED:20260208T202331Z
UID:10035-1792148400-1792170900@carobahn.de
SUMMARY:Linienfahrt 16. Oktober 2026
DESCRIPTION:Wir bringen Sie bequem zu den Sehenswürdigkeiten und zum Strand! Tageskarten sind nicht übertragbare Karten
URL:https://carobahn.de/event/linienfahrt-16-oktober-2026/
CATEGORIES:Linienfahrt
ATTACH;FMTTYPE=image/jpeg:https://carobahn.de/wp-content/uploads/2025/02/Carobahn-13.4.22-22-scaled-m2mqOE.tmp_.jpg
END:VEVENT
BEGIN:VEVENT
DTSTART;TZID=Europe/Berlin:20261017T110000
DTEND;TZID=Europe/Berlin:20261017T171500
DTSTAMP:20260423T122418
CREATED:20260208T202333Z
LAST-MODIFIED:20260208T202333Z
UID:10036-1792234800-1792257300@carobahn.de
SUMMARY:Linienfahrt 17. Oktober 2026
DESCRIPTION:Wir bringen Sie bequem zu den Sehenswürdigkeiten und zum Strand! Tageskarten sind nicht übertragbare Karten
URL:https://carobahn.de/event/linienfahrt-17-oktober-2026/
CATEGORIES:Linienfahrt
ATTACH;FMTTYPE=image/jpeg:https://carobahn.de/wp-content/uploads/2025/02/Carobahn-13.4.22-22-scaled-m2mqOE.tmp_.jpg
END:VEVENT
BEGIN:VEVENT
DTSTART;TZID=Europe/Berlin:20261018T110000
DTEND;TZID=Europe/Berlin:20261018T171500
DTSTAMP:20260423T122418
CREATED:20260208T202351Z
LAST-MODIFIED:20260208T202351Z
UID:10037-1792321200-1792343700@carobahn.de
SUMMARY:Linienfahrt 18. Oktober 2026
DESCRIPTION:Wir bringen Sie bequem zu den Sehenswürdigkeiten und zum Strand! Tageskarten sind nicht übertragbare Karten
URL:https://carobahn.de/event/linienfahrt-18-oktober-2026/
CATEGORIES:Linienfahrt
ATTACH;FMTTYPE=image/jpeg:https://carobahn.de/wp-content/uploads/2025/02/Carobahn-13.4.22-22-scaled-m2mqOE.tmp_.jpg
END:VEVENT
BEGIN:VEVENT
DTSTART;TZID=Europe/Berlin:20261019T110000
DTEND;TZID=Europe/Berlin:20261019T171500
DTSTAMP:20260423T122418
CREATED:20260208T202352Z
LAST-MODIFIED:20260208T202352Z
UID:10038-1792407600-1792430100@carobahn.de
SUMMARY:Linienfahrt 19. Oktober 2026
DESCRIPTION:Wir bringen Sie bequem zu den Sehenswürdigkeiten und zum Strand! Tageskarten sind nicht übertragbare Karten
URL:https://carobahn.de/event/linienfahrt-19-oktober-2026/
CATEGORIES:Linienfahrt
ATTACH;FMTTYPE=image/jpeg:https://carobahn.de/wp-content/uploads/2025/02/Carobahn-13.4.22-22-scaled-m2mqOE.tmp_.jpg
END:VEVENT
BEGIN:VEVENT
DTSTART;TZID=Europe/Berlin:20261020T110000
DTEND;TZID=Europe/Berlin:20261020T171500
DTSTAMP:20260423T122418
CREATED:20260208T202354Z
LAST-MODIFIED:20260208T202354Z
UID:10039-1792494000-1792516500@carobahn.de
SUMMARY:Linienfahrt 20. Oktober 2026
DESCRIPTION:Wir bringen Sie bequem zu den Sehenswürdigkeiten und zum Strand! Tageskarten sind nicht übertragbare Karten
URL:https://carobahn.de/event/linienfahrt-20-oktober-2026/
CATEGORIES:Linienfahrt
ATTACH;FMTTYPE=image/jpeg:https://carobahn.de/wp-content/uploads/2025/02/Carobahn-13.4.22-22-scaled-m2mqOE.tmp_.jpg
END:VEVENT
BEGIN:VEVENT
DTSTART;TZID=Europe/Berlin:20261021T110000
DTEND;TZID=Europe/Berlin:20261021T171500
DTSTAMP:20260423T122418
CREATED:20260208T202355Z
LAST-MODIFIED:20260208T202355Z
UID:10040-1792580400-1792602900@carobahn.de
SUMMARY:Linienfahrt 21. Oktober 2026
DESCRIPTION:Wir bringen Sie bequem zu den Sehenswürdigkeiten und zum Strand! Tageskarten sind nicht übertragbare Karten
URL:https://carobahn.de/event/linienfahrt-21-oktober-2026/
CATEGORIES:Linienfahrt
ATTACH;FMTTYPE=image/jpeg:https://carobahn.de/wp-content/uploads/2025/02/Carobahn-13.4.22-22-scaled-m2mqOE.tmp_.jpg
END:VEVENT
BEGIN:VEVENT
DTSTART;TZID=Europe/Berlin:20261022T110000
DTEND;TZID=Europe/Berlin:20261022T171500
DTSTAMP:20260423T122418
CREATED:20260208T202357Z
LAST-MODIFIED:20260208T202357Z
UID:10041-1792666800-1792689300@carobahn.de
SUMMARY:Linienfahrt 22. Oktober 2026
DESCRIPTION:Wir bringen Sie bequem zu den Sehenswürdigkeiten und zum Strand! Tageskarten sind nicht übertragbare Karten
URL:https://carobahn.de/event/linienfahrt-22-oktober-2026/
CATEGORIES:Linienfahrt
ATTACH;FMTTYPE=image/jpeg:https://carobahn.de/wp-content/uploads/2025/02/Carobahn-13.4.22-22-scaled-m2mqOE.tmp_.jpg
END:VEVENT
BEGIN:VEVENT
DTSTART;TZID=Europe/Berlin:20261023T110000
DTEND;TZID=Europe/Berlin:20261023T171500
DTSTAMP:20260423T122418
CREATED:20260208T202416Z
LAST-MODIFIED:20260208T202416Z
UID:10042-1792753200-1792775700@carobahn.de
SUMMARY:Linienfahrt 23. Oktober 2026
DESCRIPTION:Wir bringen Sie bequem zu den Sehenswürdigkeiten und zum Strand! Tageskarten sind nicht übertragbare Karten
URL:https://carobahn.de/event/linienfahrt-23-oktober-2026/
CATEGORIES:Linienfahrt
ATTACH;FMTTYPE=image/jpeg:https://carobahn.de/wp-content/uploads/2025/02/Carobahn-13.4.22-22-scaled-m2mqOE.tmp_.jpg
END:VEVENT
BEGIN:VEVENT
DTSTART;TZID=Europe/Berlin:20261024T110000
DTEND;TZID=Europe/Berlin:20261024T171500
DTSTAMP:20260423T122418
CREATED:20260208T202417Z
LAST-MODIFIED:20260208T202417Z
UID:10043-1792839600-1792862100@carobahn.de
SUMMARY:Linienfahrt 24. Oktober 2026
DESCRIPTION:Wir bringen Sie bequem zu den Sehenswürdigkeiten und zum Strand! Tageskarten sind nicht übertragbare Karten
URL:https://carobahn.de/event/linienfahrt-24-oktober-2026/
CATEGORIES:Linienfahrt
ATTACH;FMTTYPE=image/jpeg:https://carobahn.de/wp-content/uploads/2025/02/Carobahn-13.4.22-22-scaled-m2mqOE.tmp_.jpg
END:VEVENT
BEGIN:VEVENT
DTSTART;TZID=Europe/Berlin:20261025T110000
DTEND;TZID=Europe/Berlin:20261025T171500
DTSTAMP:20260423T122418
CREATED:20260208T202419Z
LAST-MODIFIED:20260208T202419Z
UID:10044-1792926000-1792948500@carobahn.de
SUMMARY:Linienfahrt 25. Oktober 2026
DESCRIPTION:Wir bringen Sie bequem zu den Sehenswürdigkeiten und zum Strand! Tageskarten sind nicht übertragbare Karten
URL:https://carobahn.de/event/linienfahrt-25-oktober-2026/
CATEGORIES:Linienfahrt
ATTACH;FMTTYPE=image/jpeg:https://carobahn.de/wp-content/uploads/2025/02/Carobahn-13.4.22-22-scaled-m2mqOE.tmp_.jpg
END:VEVENT
BEGIN:VEVENT
DTSTART;TZID=Europe/Berlin:20261026T110000
DTEND;TZID=Europe/Berlin:20261026T171500
DTSTAMP:20260423T122418
CREATED:20260208T202420Z
LAST-MODIFIED:20260208T202420Z
UID:10045-1793012400-1793034900@carobahn.de
SUMMARY:Linienfahrt 26. Oktober 2026
DESCRIPTION:Wir bringen Sie bequem zu den Sehenswürdigkeiten und zum Strand! Tageskarten sind nicht übertragbare Karten
URL:https://carobahn.de/event/linienfahrt-26-oktober-2026/
CATEGORIES:Linienfahrt
ATTACH;FMTTYPE=image/jpeg:https://carobahn.de/wp-content/uploads/2025/02/Carobahn-13.4.22-22-scaled-m2mqOE.tmp_.jpg
END:VEVENT
BEGIN:VEVENT
DTSTART;TZID=Europe/Berlin:20261027T110000
DTEND;TZID=Europe/Berlin:20261027T171500
DTSTAMP:20260423T122418
CREATED:20260208T202422Z
LAST-MODIFIED:20260208T202422Z
UID:10046-1793098800-1793121300@carobahn.de
SUMMARY:Linienfahrt 27. Oktober 2026
DESCRIPTION:Wir bringen Sie bequem zu den Sehenswürdigkeiten und zum Strand! Tageskarten sind nicht übertragbare Karten
URL:https://carobahn.de/event/linienfahrt-27-oktober-2026/
CATEGORIES:Linienfahrt
ATTACH;FMTTYPE=image/jpeg:https://carobahn.de/wp-content/uploads/2025/02/Carobahn-13.4.22-22-scaled-m2mqOE.tmp_.jpg
END:VEVENT
BEGIN:VEVENT
DTSTART;TZID=Europe/Berlin:20261028T110000
DTEND;TZID=Europe/Berlin:20261028T171500
DTSTAMP:20260423T122418
CREATED:20260208T202440Z
LAST-MODIFIED:20260208T202440Z
UID:10047-1793185200-1793207700@carobahn.de
SUMMARY:Linienfahrt 28. Oktober 2026
DESCRIPTION:Wir bringen Sie bequem zu den Sehenswürdigkeiten und zum Strand! Tageskarten sind nicht übertragbare Karten
URL:https://carobahn.de/event/linienfahrt-28-oktober-2026/
CATEGORIES:Linienfahrt
ATTACH;FMTTYPE=image/jpeg:https://carobahn.de/wp-content/uploads/2025/02/Carobahn-13.4.22-22-scaled-m2mqOE.tmp_.jpg
END:VEVENT
BEGIN:VEVENT
DTSTART;TZID=Europe/Berlin:20261029T110000
DTEND;TZID=Europe/Berlin:20261029T171500
DTSTAMP:20260423T122418
CREATED:20260208T202442Z
LAST-MODIFIED:20260208T202442Z
UID:10048-1793271600-1793294100@carobahn.de
SUMMARY:Linienfahrt 29. Oktober 2026
DESCRIPTION:Wir bringen Sie bequem zu den Sehenswürdigkeiten und zum Strand! Tageskarten sind nicht übertragbare Karten
URL:https://carobahn.de/event/linienfahrt-29-oktober-2026/
CATEGORIES:Linienfahrt
ATTACH;FMTTYPE=image/jpeg:https://carobahn.de/wp-content/uploads/2025/02/Carobahn-13.4.22-22-scaled-m2mqOE.tmp_.jpg
END:VEVENT
BEGIN:VEVENT
DTSTART;TZID=Europe/Berlin:20261030T110000
DTEND;TZID=Europe/Berlin:20261030T171500
DTSTAMP:20260423T122418
CREATED:20260208T202443Z
LAST-MODIFIED:20260208T202443Z
UID:10049-1793358000-1793380500@carobahn.de
SUMMARY:Linienfahrt 30. Oktober 2026
DESCRIPTION:Wir bringen Sie bequem zu den Sehenswürdigkeiten und zum Strand! Tageskarten sind nicht übertragbare Karten
URL:https://carobahn.de/event/linienfahrt-30-oktober-2026/
CATEGORIES:Linienfahrt
ATTACH;FMTTYPE=image/jpeg:https://carobahn.de/wp-content/uploads/2025/02/Carobahn-13.4.22-22-scaled-m2mqOE.tmp_.jpg
END:VEVENT
END:VCALENDAR